BEGIN:VCALENDAR
VERSION:2.0
PRODID:-//Catholic Telegraph - ECPv5.2.1.1//NONSGML v1.0//EN
CALSCALE:GREGORIAN
METHOD:PUBLISH
X-WR-CALNAME:Catholic Telegraph
X-ORIGINAL-URL:https://www.thecatholictelegraph.com
X-WR-CALDESC:Events for Catholic Telegraph
BEGIN:VTIMEZONE
TZID:America/New_York
BEGIN:DAYLIGHT
TZOFFSETFROM:-0500
TZOFFSETTO:-0400
TZNAME:EDT
DTSTART:20180311T070000
END:DAYLIGHT
BEGIN:STANDARD
TZOFFSETFROM:-0400
TZOFFSETTO:-0500
TZNAME:EST
DTSTART:20181104T060000
END:STANDARD
END:VTIMEZONE
BEGIN:VEVENT
DTSTART;TZID=America/New_York:20180817T180000
DTEND;TZID=America/New_York:20180817T180000
DTSTAMP:20260419T170817
CREATED:20180621T153945Z
LAST-MODIFIED:20180621T153945Z
UID:52173-1534528800-1534528800@www.thecatholictelegraph.com
SUMMARY:St. Bernadette Festival Begins (Amelia)
DESCRIPTION:Aug 17-19. “Taste and See the Goodness.” Live Music all weekend\, Kids & Adult Games\, Kids Rides\, Air Conditioned Casino\, Bid-N-Buy\, Basket Raffle and more. \nFor links\, times\, maps\, and more\, click here for The Catholic Telegraph’s 2018 online Festival Guide.
URL:https://www.thecatholictelegraph.com/event/st-bernadette-festival-begins-amelia
LOCATION:St. Bernadette (Amelia)\, 1479 Locust Lake Rd\, Amelia\, Ohio\, 45102
GEO:39.0279699;-84.2267123
X-APPLE-STRUCTURED-LOCATION;VALUE=URI;X-ADDRESS=St. Bernadette (Amelia) 1479 Locust Lake Rd Amelia Ohio 45102;X-APPLE-RADIUS=500;X-TITLE=1479 Locust Lake Rd:geo:-84.2267123,39.0279699
END:VEVENT
BEGIN:VEVENT
DTSTART;TZID=America/New_York:20180817T180000
DTEND;TZID=America/New_York:20180817T180000
DTSTAMP:20260419T170817
CREATED:20180621T154106Z
LAST-MODIFIED:20180621T193543Z
UID:52175-1534528800-1534528800@www.thecatholictelegraph.com
SUMMARY:St. Elizabeth Ann Seton Festival Begins (Milford)
DESCRIPTION:Aug. 17-19. Gambling under the Big Tent\, Bid-n-Buy\, Basket Raffle\, Rides\, Children’s Games\, Free Bicycle Raffle Each Night\, Live Entertainment: Friday Night – Michelle Robinson Band\, Saturday Night – Rusty Griswalds and Sunday – Eden; Chicken dinners Sunday. \nFor links\, times\, maps\, and more\, click here for The Catholic Telegraph’s 2018 online Festival Guide.
URL:https://www.thecatholictelegraph.com/event/st-elizabeth-ann-seton-festival-begins-milford
LOCATION:St. Elizabeth Ann Seton Churh\, 5890 Buckwheat Rd\,\, Milford\, Ohio\, 45150
GEO:39.1910435;-84.2181564
X-APPLE-STRUCTURED-LOCATION;VALUE=URI;X-ADDRESS=St. Elizabeth Ann Seton Churh 5890 Buckwheat Rd Milford Ohio 45150;X-APPLE-RADIUS=500;X-TITLE=5890 Buckwheat Rd\,:geo:-84.2181564,39.1910435
END:VEVENT
BEGIN:VEVENT
DTSTART;TZID=America/New_York:20180817T180000
DTEND;TZID=America/New_York:20180817T230000
DTSTAMP:20260419T170817
CREATED:20180621T154544Z
LAST-MODIFIED:20180621T154544Z
UID:52179-1534528800-1534546800@www.thecatholictelegraph.com
SUMMARY:St. William Festival Begins (Price Hill)
DESCRIPTION:Aug. 17-19. Friday night adults only. \nFor links\, times\, maps\, and more\, click here for The Catholic Telegraph’s 2018 online Festival Guide.
URL:https://www.thecatholictelegraph.com/event/st-william-festival-begins-price-hill
LOCATION:St. William Church\, 4108 West Eighth Street\, Cincinnati\, OH\, 45205\, United States
GEO:39.1075366;-84.5864653
X-APPLE-STRUCTURED-LOCATION;VALUE=URI;X-ADDRESS=St. William Church 4108 West Eighth Street Cincinnati OH 45205 United States;X-APPLE-RADIUS=500;X-TITLE=4108 West Eighth Street:geo:-84.5864653,39.1075366
END:VEVENT
END:VCALENDAR