BEGIN:VCALENDAR
VERSION:2.0
PRODID:-//Catholic Telegraph - ECPv5.2.1.1//NONSGML v1.0//EN
CALSCALE:GREGORIAN
METHOD:PUBLISH
X-WR-CALNAME:Catholic Telegraph
X-ORIGINAL-URL:https://www.thecatholictelegraph.com
X-WR-CALDESC:Events for Catholic Telegraph
BEGIN:VTIMEZONE
TZID:America/New_York
BEGIN:DAYLIGHT
TZOFFSETFROM:-0500
TZOFFSETTO:-0400
TZNAME:EDT
DTSTART:20180311T070000
END:DAYLIGHT
BEGIN:STANDARD
TZOFFSETFROM:-0400
TZOFFSETTO:-0500
TZNAME:EST
DTSTART:20181104T060000
END:STANDARD
END:VTIMEZONE
BEGIN:VEVENT
DTSTART;VALUE=DATE:20180824
DTEND;VALUE=DATE:20180825
DTSTAMP:20260422T050123
CREATED:20180702T162156Z
LAST-MODIFIED:20180702T162156Z
UID:52497-1535068800-1535155199@www.thecatholictelegraph.com
SUMMARY:Marriage Preparation Training Session in Spanish Begins in Mason
DESCRIPTION:Aug. 24\, 25. Jake Samour\, a native of El Salvador\, a nationally recognized expert in St. John Paul II’s Theology of the Body\, and Director of Marriage & Family Life for the Diocese of Wichita\, will conduct God’s Plan for a Joy-Filled Marriage training. The sessions will be taught in Spanish ONLY — if you are a Spanish speaker interested in marriage preparation ministry\, mark your calendar for this event. More information to come. For information or to register\, contact Dan Thimons at 513.421.3131\, ext. 2621\, or dthimons@catholiccincinnati.org
URL:https://www.thecatholictelegraph.com/event/marriage-preparation-training-session-in-spanish-begins-in-mason
LOCATION:St. Susanna Parish\, 616 Reading Rd\, Mason\, OH\, 45040\, United States
GEO:39.3532959;-84.3172069
X-APPLE-STRUCTURED-LOCATION;VALUE=URI;X-ADDRESS=St. Susanna Parish 616 Reading Rd Mason OH 45040 United States;X-APPLE-RADIUS=500;X-TITLE=616 Reading Rd:geo:-84.3172069,39.3532959
END:VEVENT
BEGIN:VEVENT
DTSTART;TZID=America/New_York:20180824T180000
DTEND;TZID=America/New_York:20180824T230000
DTSTAMP:20260422T050123
CREATED:20180621T154804Z
LAST-MODIFIED:20180621T154804Z
UID:52181-1535133600-1535151600@www.thecatholictelegraph.com
SUMMARY:St. Ignatius Loyola Festival Begins (Montfort Heights)
DESCRIPTION:Aug. 24-26. Live Music: Friday – Soul Pocket; Saturday – DV8; Sunday – Second Wind\, Games\, Rides\, Mascots\, Gambling\, more. \nFor links\, times\, maps\, and more\, click here for The Catholic Telegraph’s 2018 online Festival Guide.
URL:https://www.thecatholictelegraph.com/event/st-ignatius-loyola-festival-begins-montfort-heights
LOCATION:St. Ignatius Loyola (Monfort Heights)\, 5222 North Bend Road\, Cincinnati\, OH\, 45247
GEO:39.1825902;-84.6032458
X-APPLE-STRUCTURED-LOCATION;VALUE=URI;X-ADDRESS=St. Ignatius Loyola (Monfort Heights) 5222 North Bend Road Cincinnati OH 45247;X-APPLE-RADIUS=500;X-TITLE=5222 North Bend Road:geo:-84.6032458,39.1825902
END:VEVENT
BEGIN:VEVENT
DTSTART;TZID=America/New_York:20180824T180000
DTEND;TZID=America/New_York:20180824T230000
DTSTAMP:20260422T050123
CREATED:20180621T154938Z
LAST-MODIFIED:20180710T150057Z
UID:52183-1535133600-1535151600@www.thecatholictelegraph.com
SUMMARY:St. Ignatius of Antioch Lebanese Festival Begins (Dayton)
DESCRIPTION:Aug. 24-26. Foods include: Kibbee\, Kafta\, Beef and Chicken Shawarma (Lebanese gyro)\, Tabouli and Salata Salads\, Stuffed Grapes Leaves\, Hummus Dip\, Homemade Middle Eastern Mountain Bread with Zhatar Seasoning and Baklava\, Ghraybeh\, Nammuoora Desserts. No gaming. \nFor links\, times\, maps\, and more\, click here for The Catholic Telegraph’s 2018 online Festival Guide.
URL:https://www.thecatholictelegraph.com/event/st-ignatius-of-antioch-lebanese-festival-begins-dayton
LOCATION:St. Ignatius of Antioch Maronite Church (Dayton)\, 50 Nutt Rd\, Dayton\, Ohio\, 45458\, United States
GEO:39.6699093;-84.2232702
X-APPLE-STRUCTURED-LOCATION;VALUE=URI;X-ADDRESS=St. Ignatius of Antioch Maronite Church (Dayton) 50 Nutt Rd Dayton Ohio 45458 United States;X-APPLE-RADIUS=500;X-TITLE=50 Nutt Rd:geo:-84.2232702,39.6699093
END:VEVENT
BEGIN:VEVENT
DTSTART;TZID=America/New_York:20180824T190000
DTEND;TZID=America/New_York:20180824T220000
DTSTAMP:20260422T050123
CREATED:20180820T185934Z
LAST-MODIFIED:20180820T185934Z
UID:53319-1535137200-1535148000@www.thecatholictelegraph.com
SUMMARY:LaSalle v. Colerain Crosstown Showdown Game at Colerain
DESCRIPTION:Two top Cincinnati West-side football teams battle it out as part of the annual Skyline Chili Crosstown Showdown. Tickets available from the schools.
URL:https://www.thecatholictelegraph.com/event/lasalle-v-colerain-crosstown-showdown-game-at-colerain
LOCATION:Colerain High School\, 8801 Cheviot Rd.\, Cincinnati\, Ohio\, 45251
GEO:39.2323645;-84.6026755
X-APPLE-STRUCTURED-LOCATION;VALUE=URI;X-ADDRESS=Colerain High School 8801 Cheviot Rd. Cincinnati Ohio 45251;X-APPLE-RADIUS=500;X-TITLE=8801 Cheviot Rd.:geo:-84.6026755,39.2323645
END:VEVENT
END:VCALENDAR