BEGIN:VCALENDAR
VERSION:2.0
PRODID:-//Catholic Telegraph - ECPv5.2.1.1//NONSGML v1.0//EN
CALSCALE:GREGORIAN
METHOD:PUBLISH
X-WR-CALNAME:Catholic Telegraph
X-ORIGINAL-URL:https://www.thecatholictelegraph.com
X-WR-CALDESC:Events for Catholic Telegraph
BEGIN:VTIMEZONE
TZID:America/New_York
BEGIN:DAYLIGHT
TZOFFSETFROM:-0500
TZOFFSETTO:-0400
TZNAME:EDT
DTSTART:20180311T070000
END:DAYLIGHT
BEGIN:STANDARD
TZOFFSETFROM:-0400
TZOFFSETTO:-0500
TZNAME:EST
DTSTART:20181104T060000
END:STANDARD
END:VTIMEZONE
BEGIN:VEVENT
DTSTART;VALUE=DATE:20180831
DTEND;VALUE=DATE:20180901
DTSTAMP:20260420T154007
CREATED:20180711T191506Z
LAST-MODIFIED:20180711T191506Z
UID:52692-1535673600-1535759999@www.thecatholictelegraph.com
SUMMARY:Trappist "Come-See" Weekend at Gethsemane Begins
DESCRIPTION:Aug. 31-Sept. 3. The Trappist Abbey of Gethsemane in Kentucky invites single men 18-35 to spend a weekend discovering the Trappist life. Chant with the monks\, tour work places and Merton’s Hermitage\, attend the\nAbbot’s weekly talk\, meet others who know “how God is working in their lives.” No cost or donation. Email  vocations@monks.org for information or to attend.
URL:https://www.thecatholictelegraph.com/event/trappist-come-see-weekend-at-gethsemane-begins
LOCATION:Abbey of Gethsemani\, 3642 Monks Road\, Trappist\, Kentucky\, 40051
GEO:37.6821495;-85.556734
X-APPLE-STRUCTURED-LOCATION;VALUE=URI;X-ADDRESS=Abbey of Gethsemani 3642 Monks Road Trappist Kentucky 40051;X-APPLE-RADIUS=500;X-TITLE=3642 Monks Road:geo:-85.556734,37.6821495
END:VEVENT
BEGIN:VEVENT
DTSTART;VALUE=DATE:20180831
DTEND;VALUE=DATE:20180901
DTSTAMP:20260420T154007
CREATED:20180725T154653Z
LAST-MODIFIED:20180725T154653Z
UID:52977-1535673600-1535759999@www.thecatholictelegraph.com
SUMMARY:Days of Prayer and Mercy at the Our Lady of the Holy Spirit Center Begin
DESCRIPTION:Aug. 31-Sept. 1 The Foundation’s annual Days of Prayer and Mercy event will feature Matthew Leonard. \nSpeaker\, author\, podcaster\, filmmaker\, and St. Paul Center for Biblical Theology Vice President Matthew Leonard\, a convert to Catholicism and former missionary to Latin America\, Matthew appears frequently on radio and television\, hosts “The Art of Catholic\,” a podcast heard in more than 160 countries\, and is a featured speaker for Lighthouse Catholic Media. He will speak both days. \nFriday features morning and evening  Mass\, Eucharistic adoration\, rosary\, confession\, dinner buffet featuring talk by Matthew Leonard\, and midnight vigil (outside if weather permits). \nSaturday features Adoration\, bruch ($10)\, rosary\, talk by Matthew Leonard\, evening Mass and healing service with Jim “OBriena nd Father Joseph Shepherd\, more. \nSuggested donation for the weekend is $40\, $25 for Friday evening talk only.
URL:https://www.thecatholictelegraph.com/event/days-of-prayer-and-mercy-at-the-our-lady-of-the-holy-spirit-center-begin
LOCATION:Our Lady of the Holy Spirit Center\, 5440 Moeller Avenue\, Norwood\, OH\, 45212\, United States
GEO:39.1727799;-84.4461511
X-APPLE-STRUCTURED-LOCATION;VALUE=URI;X-ADDRESS=Our Lady of the Holy Spirit Center 5440 Moeller Avenue Norwood OH 45212 United States;X-APPLE-RADIUS=500;X-TITLE=5440 Moeller Avenue:geo:-84.4461511,39.1727799
END:VEVENT
BEGIN:VEVENT
DTSTART;TZID=America/New_York:20180831T180000
DTEND;TZID=America/New_York:20180831T230000
DTSTAMP:20260420T154007
CREATED:20180621T155651Z
LAST-MODIFIED:20180621T155651Z
UID:52187-1535738400-1535756400@www.thecatholictelegraph.com
SUMMARY:Nativity of Our Lord Festival Begins (Pleasant Ridge)
DESCRIPTION:Aug. 31-Sept. 2. \nFor links\, times\, maps\, and more\, click here for The Catholic Telegraph’s 2018 online Festival Guide.
URL:https://www.thecatholictelegraph.com/event/nativity-of-our-lord-festival-begins-pleasant-ridge
LOCATION:Nativity of Our Lord (Pleasant Ridge)\,  5935 Pandora Ave\, Cincinnati\, Ohio\, 45213
GEO:39.1804477;-84.4264079
X-APPLE-STRUCTURED-LOCATION;VALUE=URI;X-ADDRESS=Nativity of Our Lord (Pleasant Ridge)  5935 Pandora Ave Cincinnati Ohio 45213;X-APPLE-RADIUS=500;X-TITLE=5935 Pandora Ave:geo:-84.4264079,39.1804477
END:VEVENT
BEGIN:VEVENT
DTSTART;TZID=America/New_York:20180831T180000
DTEND;TZID=America/New_York:20180831T230000
DTSTAMP:20260420T154007
CREATED:20180621T160038Z
LAST-MODIFIED:20180621T160038Z
UID:52192-1535738400-1535756400@www.thecatholictelegraph.com
SUMMARY:St. John Neumann Festival Begins (Cincinnati)
DESCRIPTION:Aug. 31-Sept. 2. Live Bands: Friday: The Everyday People Band; Saturday: Under the Sun; Sunday: 90 Proof Twang. Saturday: Pig Roast served at 5 p.m.; Sunday: Chicken Dinner served at 5 p.m. More. \nFor links\, times\, maps\, and more\, click here for The Catholic Telegraph’s 2018 online Festival Guide.
URL:https://www.thecatholictelegraph.com/event/st-john-neumann-festival-begins-cincinnati
LOCATION:St. John Neumann Church\, 12191 Mill Rd\, Cincinnati\, OH\, 45240\, United States
GEO:39.305375;-84.5432854
X-APPLE-STRUCTURED-LOCATION;VALUE=URI;X-ADDRESS=St. John Neumann Church 12191 Mill Rd Cincinnati OH 45240 United States;X-APPLE-RADIUS=500;X-TITLE=12191 Mill Rd:geo:-84.5432854,39.305375
END:VEVENT
BEGIN:VEVENT
DTSTART;TZID=America/New_York:20180831T190000
DTEND;TZID=America/New_York:20180831T230000
DTSTAMP:20260420T154007
CREATED:20180621T155530Z
LAST-MODIFIED:20180621T155530Z
UID:52185-1535742000-1535756400@www.thecatholictelegraph.com
SUMMARY:Alterfest Begins (Kettering)
DESCRIPTION:Aug. 31-Sept. 2. Kids rides and games all weekend\, live music and entertainment tent\, Blackjack and other games\, famous chicken dinner\, Italian sausage\, beer and wine garden\, more. \nFor links\, times\, maps\, and more\, click here for The Catholic Telegraph’s 2018 online Festival Guide.
URL:https://www.thecatholictelegraph.com/event/alterfest-begins-kettering
LOCATION:Alter HIgh School\, 940 E David R\, Dayton\, Ohio\, 45429
GEO:39.6801396;-84.1518258
X-APPLE-STRUCTURED-LOCATION;VALUE=URI;X-ADDRESS=Alter HIgh School 940 E David R Dayton Ohio 45429;X-APPLE-RADIUS=500;X-TITLE=940 E David R:geo:-84.1518258,39.6801396
END:VEVENT
END:VCALENDAR