BEGIN:VCALENDAR
VERSION:2.0
PRODID:-//Catholic Telegraph - ECPv5.2.1.1//NONSGML v1.0//EN
CALSCALE:GREGORIAN
METHOD:PUBLISH
X-WR-CALNAME:Catholic Telegraph
X-ORIGINAL-URL:https://www.thecatholictelegraph.com
X-WR-CALDESC:Events for Catholic Telegraph
BEGIN:VTIMEZONE
TZID:America/New_York
BEGIN:DAYLIGHT
TZOFFSETFROM:-0500
TZOFFSETTO:-0400
TZNAME:EDT
DTSTART:20180311T070000
END:DAYLIGHT
BEGIN:STANDARD
TZOFFSETFROM:-0400
TZOFFSETTO:-0500
TZNAME:EST
DTSTART:20181104T060000
END:STANDARD
END:VTIMEZONE
BEGIN:VEVENT
DTSTART;TZID=America/New_York:20180918T183000
DTEND;TZID=America/New_York:20180918T203000
DTSTAMP:20260420T041657
CREATED:20180904T154212Z
LAST-MODIFIED:20180904T154212Z
UID:53891-1537295400-1537302600@www.thecatholictelegraph.com
SUMMARY:Fully Engaged Training in Madeira
DESCRIPTION:Chris Codden\, author of the Fully Engaged catechetical pre-marriage inventory (used in place of FOCCUS) will conduct training for priests\, deacons\, parish ministers\, and mentor couples. Training will be offered Monday\, September 17 at Holy Angels in Dayton; Tuesday\, September 18 at St. Gertrude in Madeira; and Wednesday\, September 19 at St. Ann in Groesbeck. \nCost is $35 per individual or couple. For more information or to register\, contact Dan Thimons at 513.421.3131x 2621 or dthimons@catholiccincinnati.org.
URL:https://www.thecatholictelegraph.com/event/fully-engaged-training-in-madeira
LOCATION:St. Gertrude Church\, 6543 Miami Ave\, Cincinnati\, OH\, 45243\, United States
GEO:39.1814629;-84.3654076
X-APPLE-STRUCTURED-LOCATION;VALUE=URI;X-ADDRESS=St. Gertrude Church 6543 Miami Ave Cincinnati OH 45243 United States;X-APPLE-RADIUS=500;X-TITLE=6543 Miami Ave:geo:-84.3654076,39.1814629
END:VEVENT
BEGIN:VEVENT
DTSTART;TZID=America/New_York:20180918T183000
DTEND;TZID=America/New_York:20180918T203000
DTSTAMP:20260420T041657
CREATED:20180905T161934Z
LAST-MODIFIED:20180905T161934Z
UID:53924-1537295400-1537302600@www.thecatholictelegraph.com
SUMMARY:Catherine Lopez talk at Theology on Tap East
DESCRIPTION:Catherine Lopeze will present “Belonging: Parish Life as a Young Adult Catholic\,” the second in the fall TOT East series. All in their 20s and 30s are invited to this young adult event for fellowship\, fun\, and learning. Event begins at 6:30; talk at 7. \nTOT Cincy East is a new group hosted by young adult groups at St. John Fischer/ St. Veronica\, Guardian Angels\, Immaculate Heart of Mary\, and St. Bernadette parishes.
URL:https://www.thecatholictelegraph.com/event/catherine-lopez-talk-at-theology-on-tap-east
LOCATION:Anderson Pub and Grill\, 8060 Beechmont Avenue\, Cincinnati\, Ohio\, 45255
GEO:39.0734644;-84.3317311
X-APPLE-STRUCTURED-LOCATION;VALUE=URI;X-ADDRESS=Anderson Pub and Grill 8060 Beechmont Avenue Cincinnati Ohio 45255;X-APPLE-RADIUS=500;X-TITLE=8060 Beechmont Avenue:geo:-84.3317311,39.0734644
END:VEVENT
BEGIN:VEVENT
DTSTART;TZID=America/New_York:20180918T190000
DTEND;TZID=America/New_York:20180918T210000
DTSTAMP:20260420T041657
CREATED:20180710T162001Z
LAST-MODIFIED:20180710T162309Z
UID:52657-1537297200-1537304400@www.thecatholictelegraph.com
SUMMARY:Kevin Heider CSS Talk in Centerville
DESCRIPTION:Catholic Social Services of the Miami Valley Distinguished Speaker Series features Dayton musician Kevin Heider in two area talks titled “Faith in Action.” Winning the 2008 “The Way I Am” contest on MusicNation.com was pivotal in the singer/songwriter’s decision to pursue a career in the arts\, which has led to several albums and tours\, as well as music production work. His work reflects his faith\, and has appeared in film documentaries\, theatrical productions\, television shows\, and commercials\, and has taken him around the world. His podcast\, “Song & Story\,” features songwriters discussing their songs. A reception and fellowship follow the presentation.
URL:https://www.thecatholictelegraph.com/event/kevin-heider-css-talk-in-centerville
LOCATION:Incarnation Church\, 55 Williamsburg Ln\, Centerville\, OH\, 45459\, United States
GEO:39.6378287;-84.1606811
X-APPLE-STRUCTURED-LOCATION;VALUE=URI;X-ADDRESS=Incarnation Church 55 Williamsburg Ln Centerville OH 45459 United States;X-APPLE-RADIUS=500;X-TITLE=55 Williamsburg Ln:geo:-84.1606811,39.6378287
END:VEVENT
END:VCALENDAR