BEGIN:VCALENDAR
VERSION:2.0
PRODID:-//Catholic Telegraph - ECPv5.2.1.1//NONSGML v1.0//EN
CALSCALE:GREGORIAN
METHOD:PUBLISH
X-WR-CALNAME:Catholic Telegraph
X-ORIGINAL-URL:https://www.thecatholictelegraph.com
X-WR-CALDESC:Events for Catholic Telegraph
BEGIN:VTIMEZONE
TZID:America/New_York
BEGIN:DAYLIGHT
TZOFFSETFROM:-0500
TZOFFSETTO:-0400
TZNAME:EDT
DTSTART:20180311T070000
END:DAYLIGHT
BEGIN:STANDARD
TZOFFSETFROM:-0400
TZOFFSETTO:-0500
TZNAME:EST
DTSTART:20181104T060000
END:STANDARD
END:VTIMEZONE
BEGIN:VEVENT
DTSTART;TZID=America/New_York:20181104T150000
DTEND;TZID=America/New_York:20181104T170000
DTSTAMP:20260425T230619
CREATED:20181002T182104Z
LAST-MODIFIED:20181002T182104Z
UID:54300-1541343600-1541350800@www.thecatholictelegraph.com
SUMMARY:Tolton: From Slave to Priest
DESCRIPTION:Tolton: From Slave to Priest is a professional Catholic theater production based on the life of Fr. Augustus Tolton\, the first African American priest. This live\, one-man multimedia drama opened in October 2017\, and is currently on a national tour\, performing in venues such as churches\, schools\, and theaters. Tolton features all elements of professional theater\, including set\, lighting effects\, video elements\, and an original musical score.
URL:https://www.thecatholictelegraph.com/event/tolton-from-slave-to-priest-2
LOCATION:University of Dayton\, 300 College Park\, Dayton\, 45469\, United States
GEO:39.7402118;-84.1790059
X-APPLE-STRUCTURED-LOCATION;VALUE=URI;X-ADDRESS=University of Dayton 300 College Park Dayton 45469 United States;X-APPLE-RADIUS=500;X-TITLE=300 College Park:geo:-84.1790059,39.7402118
END:VEVENT
END:VCALENDAR