BEGIN:VCALENDAR
VERSION:2.0
PRODID:-//Catholic Telegraph - ECPv5.2.1.1//NONSGML v1.0//EN
CALSCALE:GREGORIAN
METHOD:PUBLISH
X-WR-CALNAME:Catholic Telegraph
X-ORIGINAL-URL:https://www.thecatholictelegraph.com
X-WR-CALDESC:Events for Catholic Telegraph
BEGIN:VTIMEZONE
TZID:America/New_York
BEGIN:DAYLIGHT
TZOFFSETFROM:-0500
TZOFFSETTO:-0400
TZNAME:EDT
DTSTART:20180311T070000
END:DAYLIGHT
BEGIN:STANDARD
TZOFFSETFROM:-0400
TZOFFSETTO:-0500
TZNAME:EST
DTSTART:20181104T060000
END:STANDARD
END:VTIMEZONE
BEGIN:VEVENT
DTSTART;TZID=America/New_York:20181110T110000
DTEND;TZID=America/New_York:20181110T120000
DTSTAMP:20260425T132848
CREATED:20180830T170326Z
LAST-MODIFIED:20180830T170326Z
UID:53788-1541847600-1541851200@www.thecatholictelegraph.com
SUMMARY:Veterans Dedication Ceremony at Gate of Heaven
DESCRIPTION:Honoring all who served: a dedication ceremony in the new Veterans Columbaria will include a special guest speaker\, the National Anthem\, playing of Reveille\, and the unveiling of the new area. Reservations encouraged\, reply online at Gateofheaven.org/events/
URL:https://www.thecatholictelegraph.com/event/veterans-dedication-ceremony-at-gate-of-heaven
LOCATION:Gate of Heaven Cemetery\, 11000 Montgomeryu Rd\, Cincinnati\, OH\, 45207-1643\, United States
GEO:39.261729;-84.330259
X-APPLE-STRUCTURED-LOCATION;VALUE=URI;X-ADDRESS=Gate of Heaven Cemetery 11000 Montgomeryu Rd Cincinnati OH 45207-1643 United States;X-APPLE-RADIUS=500;X-TITLE=11000 Montgomeryu Rd:geo:-84.330259,39.261729
END:VEVENT
BEGIN:VEVENT
DTSTART;TZID=America/New_York:20181110T180000
DTEND;TZID=America/New_York:20181110T180000
DTSTAMP:20260425T132848
CREATED:20180821T153431Z
LAST-MODIFIED:20180821T153431Z
UID:53393-1541872800-1541872800@www.thecatholictelegraph.com
SUMMARY:St. Martin of Tours Martinfest (Cheviot)
DESCRIPTION:Second annual catered dinner and craft beer tasting even\, held on the Feast of St. Martin. Also features Lucky II’s\, Major Award Raffle\,  more. Ages 21 and up only; contact parish for ticket prices. \nFor links\, times\, maps\, and more\, click here for The Catholic Telegraph’s 2018 online Festival Guide.
URL:https://www.thecatholictelegraph.com/event/st-martin-of-tours-martinfest-cheviot-2
LOCATION:St. Martin of Tours\, 3720 St. Martin Pl\, Cincinnati\, OH\, 45211\, United States
GEO:39.154199;-84.614243
X-APPLE-STRUCTURED-LOCATION;VALUE=URI;X-ADDRESS=St. Martin of Tours 3720 St. Martin Pl Cincinnati OH 45211 United States;X-APPLE-RADIUS=500;X-TITLE=3720 St. Martin Pl:geo:-84.614243,39.154199
END:VEVENT
BEGIN:VEVENT
DTSTART;TZID=America/New_York:20181110T200000
DTEND;TZID=America/New_York:20181110T200000
DTSTAMP:20260425T132848
CREATED:20180924T185224Z
LAST-MODIFIED:20180924T185224Z
UID:54114-1541880000-1541880000@www.thecatholictelegraph.com
SUMMARY:St. Lawrence Athletic Turkey Delite
DESCRIPTION:What: Enjoy an evening of games\, split the pot\, poker\, and much more!\nWhen: Saturday\, November 10\, 8:00 p.m. until Midnight (Must be 21 years or older)\nWhere: St. Lawrence Church\, 3680 Warsaw Ave.\, Cincinnati 45205\nNote: Tickets are $1 pre-sale and $5 at the door; Contact Tina at 513-828-8416 or Jennifer at 513-571-1996
URL:https://www.thecatholictelegraph.com/event/st-lawrence-athletic-turkey-delite
LOCATION:St. Lawrence Church (Price Hill)\, 3680 Warsaw Avenue\, Cincinnati\, OH\, 45205-1759\, United States
GEO:39.1115262;-84.5728716
X-APPLE-STRUCTURED-LOCATION;VALUE=URI;X-ADDRESS=St. Lawrence Church (Price Hill) 3680 Warsaw Avenue Cincinnati OH 45205-1759 United States;X-APPLE-RADIUS=500;X-TITLE=3680 Warsaw Avenue:geo:-84.5728716,39.1115262
END:VEVENT
END:VCALENDAR