BEGIN:VCALENDAR
VERSION:2.0
PRODID:-//Catholic Telegraph - ECPv5.2.1.1//NONSGML v1.0//EN
CALSCALE:GREGORIAN
METHOD:PUBLISH
X-WR-CALNAME:Catholic Telegraph
X-ORIGINAL-URL:https://www.thecatholictelegraph.com
X-WR-CALDESC:Events for Catholic Telegraph
BEGIN:VTIMEZONE
TZID:America/New_York
BEGIN:DAYLIGHT
TZOFFSETFROM:-0500
TZOFFSETTO:-0400
TZNAME:EDT
DTSTART:20180311T070000
END:DAYLIGHT
BEGIN:STANDARD
TZOFFSETFROM:-0400
TZOFFSETTO:-0500
TZNAME:EST
DTSTART:20181104T060000
END:STANDARD
END:VTIMEZONE
BEGIN:VEVENT
DTSTART;VALUE=DATE:20181117
DTEND;VALUE=DATE:20181118
DTSTAMP:20260423T011720
CREATED:20180904T153125Z
LAST-MODIFIED:20180904T153125Z
UID:53883-1542412800-1542499199@www.thecatholictelegraph.com
SUMMARY:Adult Gospel Choir Festival Begins
DESCRIPTION:St. John (West Chester) and Resurrection will sponsor this two-day event with Roger Holland.\nCurrently Director of The Spirituals Project at the Lamont School of Music\, University of Denver\, Holland toured nationally and internationally with The Boys Choir of Harlem\, working with them as a conductor\, pianist\, instructor\, and arranger; Roger served as Minister of Music for Our Lady of Charity Roman Catholic Church in Brooklyn for 12 years; is Liturgical Music Consultant for the New York Archdiocese Office of Black Ministry\, acting as Music Director for their special Masses at St. Patrick’s Cathedral; served as Artist in Residence at Union Theological Seminary for 13 years; teaches clinics and workshops around the country; and is a noted composer. In 2016\, Cardinal Timothy Dolan presented him with the Pierre Toussaint Medallion for Service. Information and schedule to come.
URL:https://www.thecatholictelegraph.com/event/adult-gospel-choir-festival-begins
END:VEVENT
BEGIN:VEVENT
DTSTART;VALUE=DATE:20181117
DTEND;VALUE=DATE:20181118
DTSTAMP:20260423T011720
CREATED:20180904T160917Z
LAST-MODIFIED:20180904T160917Z
UID:53900-1542412800-1542499199@www.thecatholictelegraph.com
SUMMARY:Project Rachel Day of Reflection in Ludlow Falls
DESCRIPTION:Anyone who has had or been affected by an abortion is welcome to this retreat/day of reflection. Project Rachel is a ministry for people affected by abortion; information is kept confidential. For information (including location and schedule)\, see link.
URL:https://www.thecatholictelegraph.com/event/project-rachel-day-of-reflection-in-ludlow-falls
END:VEVENT
BEGIN:VEVENT
DTSTART;TZID=America/New_York:20181117T080000
DTEND;TZID=America/New_York:20181117T170000
DTSTAMP:20260423T011720
CREATED:20181113T145336Z
LAST-MODIFIED:20181113T145336Z
UID:54902-1542441600-1542474000@www.thecatholictelegraph.com
SUMMARY:St. Luke Christmas Bazaar
DESCRIPTION:Admission is free and features homemade baked goods & candy\, handcrafted goods\, holiday decorations\, used books\, CD’s\, DVD’s\, puzzles and games. The bazaar includes music\, entertainment\, delicious food and of course Santa Claus.
URL:https://www.thecatholictelegraph.com/event/st-luke-christmas-bazaar
LOCATION:St. Luke Church (Beavercreak)\, 1440 North Fairfield Road \, Beavercreek\, Ohio\, 45432
GEO:39.7317279;-84.0565246
X-APPLE-STRUCTURED-LOCATION;VALUE=URI;X-ADDRESS=St. Luke Church (Beavercreak) 1440 North Fairfield Road  Beavercreek Ohio 45432;X-APPLE-RADIUS=500;X-TITLE=1440 North Fairfield Road:geo:-84.0565246,39.7317279
END:VEVENT
BEGIN:VEVENT
DTSTART;TZID=America/New_York:20181117T090000
DTEND;TZID=America/New_York:20181117T130000
DTSTAMP:20260423T011720
CREATED:20181114T174321Z
LAST-MODIFIED:20181114T174321Z
UID:54968-1542445200-1542459600@www.thecatholictelegraph.com
SUMMARY:Holy Angels Church Outreach Committee Fair Trade and More Christmas Boutique
DESCRIPTION:Holy Angels Outreach Committee Fair Trade Sale will be held at the Ross Historical Center in Sidney on Nov. 16 and 17\, and will feature women’s enterprises from Denver\, Guatemala and Ghana. Items will include coffee\, tea\, chocolate\, baskets\, Christmas décor jewelry\, home decor\, items for babies and children\, soups and samples of soups coffee and tea. Local artists will also have featured items along with pumpkin rolls\, banana bread and cinnamon bread.
URL:https://www.thecatholictelegraph.com/event/holy-angels-church-outreach-committee-fair-trade-and-more-christmas-boutique
LOCATION:Shelby County Historical Sociey\, 201 N Main St\, OH\, 45365\, United States
END:VEVENT
END:VCALENDAR