BEGIN:VCALENDAR
VERSION:2.0
PRODID:-//Catholic Telegraph - ECPv5.2.1.1//NONSGML v1.0//EN
CALSCALE:GREGORIAN
METHOD:PUBLISH
X-WR-CALNAME:Catholic Telegraph
X-ORIGINAL-URL:https://www.thecatholictelegraph.com
X-WR-CALDESC:Events for Catholic Telegraph
BEGIN:VTIMEZONE
TZID:America/New_York
BEGIN:DAYLIGHT
TZOFFSETFROM:-0500
TZOFFSETTO:-0400
TZNAME:EDT
DTSTART:20210314T070000
END:DAYLIGHT
BEGIN:STANDARD
TZOFFSETFROM:-0400
TZOFFSETTO:-0500
TZNAME:EST
DTSTART:20211107T060000
END:STANDARD
END:VTIMEZONE
BEGIN:VEVENT
DTSTART;TZID=America/New_York:20210529T150000
DTEND;TZID=America/New_York:20210529T180000
DTSTAMP:20260419T193547
CREATED:20210301T203125Z
LAST-MODIFIED:20210301T203125Z
UID:73267-1622300400-1622311200@www.thecatholictelegraph.com
SUMMARY:Marian Pilgrimage 2021: Concert and Mass at Chaminade
DESCRIPTION:Concert and Mass – Roger Glass Stadium\, Chaminade-Julienne HS\, Dayton\, OH\nSaturday\, May 29th; 3:00 p.m.\n\nAs the Marian statue makes it way south into Dayton\, the community is invited to a family-friendly concert featuring the popular contemporary Christian band WAL\, previously known as the Jacob and Mathew Band. WAL travels throughout the USA and internationally\, carrying with them a vibrant\, energetic sound that inspires people\, young and old. At 4:30\, following the concert\, Archbishop Schnurr will celebrate Mass for all those in attendance. Once Mass is concluded\, the festivities continue with food trucks and socializing\, as the pilgrims depart for Emmanuel Catholic Church for the evening.
URL:https://www.thecatholictelegraph.com/event/marian-pilgrimage-2021-concert-and-mass-at-chaminade
LOCATION:Chaminade Julienne High School\, 505 South Ludlow Street\, Dayton\, OH
ATTACH;FMTTYPE=image/jpeg:https://www.thecatholictelegraph.com/wp-content/uploads/2015/08/CJ-rendering.jpg
GEO:39.752752;-84.19254
X-APPLE-STRUCTURED-LOCATION;VALUE=URI;X-ADDRESS=Chaminade Julienne High School 505 South Ludlow Street Dayton OH;X-APPLE-RADIUS=500;X-TITLE=505 South Ludlow Street:geo:-84.19254,39.752752
END:VEVENT
END:VCALENDAR