BEGIN:VCALENDAR
VERSION:2.0
PRODID:-//Catholic Telegraph - ECPv5.2.1.1//NONSGML v1.0//EN
CALSCALE:GREGORIAN
METHOD:PUBLISH
X-WR-CALNAME:Catholic Telegraph
X-ORIGINAL-URL:https://www.thecatholictelegraph.com
X-WR-CALDESC:Events for Catholic Telegraph
BEGIN:VTIMEZONE
TZID:America/New_York
BEGIN:DAYLIGHT
TZOFFSETFROM:-0500
TZOFFSETTO:-0400
TZNAME:EDT
DTSTART:20230312T070000
END:DAYLIGHT
BEGIN:STANDARD
TZOFFSETFROM:-0400
TZOFFSETTO:-0500
TZNAME:EST
DTSTART:20231105T060000
END:STANDARD
END:VTIMEZONE
BEGIN:VEVENT
DTSTART;TZID=America/New_York:20230720T173000
DTEND;TZID=America/New_York:20230720T213000
DTSTAMP:20260425T205747
CREATED:20230619T155150Z
LAST-MODIFIED:20230619T155150Z
UID:91759-1689874200-1689888600@www.thecatholictelegraph.com
SUMMARY:ST. JOSEPH FUNDRAISER DINNER AT THE SHRINE
DESCRIPTION:MARIA STEIN\, OHIO (JUNE 19TH\, 2023) – Join us for an evening of dinner and music at the Maria Stein Shrine on Thursday\, July 20th in the Upper Room. The evening starts with cocktails and music at 5:30pm\, dinner at 6:30pm\, St. Joseph Preservation Fund update at 7:30pm\, and concludes with the Lima Symphony Stringed Quartet and the Minster Singing Quartet at 7:45pm. The cost is $30 per person\, seating is limited\, register online at mariasteinshrine.org or call Diana Russell at 419-925-4532. \nThis is a great opportunity to learn more about the St. Joseph Preservation Fund. The income from the St. Joseph Preservation Fund will be used specifically for major building upkeep and preservation expenses of the Shrine such as roofing\, brick repair\, and pavement resurfacing.\nWe are asking St. Joseph to intercede for the need to raise funds to preserve this historical and holy place\, where so many pilgrims and guests come for spiritual nourishment and historical religious education. \nThe Maria Stein Shrine of the Holy Relics provides faith nourishment and spiritual renewal through opportunities for prayer and pilgrimage and inspiration from the lives of the saints. People from around the world visit the shrine to explore and enjoy this environment rich in holiness and history. The Shrine is located at 2291 St. John’s Rd. in Maria Stein. For more event information\, visit mariasteinshrine.org.
URL:https://www.thecatholictelegraph.com/event/st-joseph-fundraiser-dinner-at-the-shrine
LOCATION:Maria Stein Shrine\, 2291 St. Johns Road\, Maria Stein\, OH\, 45860\, United States
ATTACH;FMTTYPE=image/jpeg:https://www.thecatholictelegraph.com/wp-content/uploads/2020/06/Convent-bldg-2-scaled.jpg
GEO:40.41602;-84.475857
X-APPLE-STRUCTURED-LOCATION;VALUE=URI;X-ADDRESS=Maria Stein Shrine 2291 St. Johns Road Maria Stein OH 45860 United States;X-APPLE-RADIUS=500;X-TITLE=2291 St. Johns Road:geo:-84.475857,40.41602
END:VEVENT
END:VCALENDAR