BEGIN:VCALENDAR
VERSION:2.0
PRODID:-//Catholic Telegraph - ECPv5.2.1.1//NONSGML v1.0//EN
CALSCALE:GREGORIAN
METHOD:PUBLISH
X-WR-CALNAME:Catholic Telegraph
X-ORIGINAL-URL:https://www.thecatholictelegraph.com
X-WR-CALDESC:Events for Catholic Telegraph
BEGIN:VTIMEZONE
TZID:America/New_York
BEGIN:DAYLIGHT
TZOFFSETFROM:-0500
TZOFFSETTO:-0400
TZNAME:EDT
DTSTART:20230312T070000
END:DAYLIGHT
BEGIN:STANDARD
TZOFFSETFROM:-0400
TZOFFSETTO:-0500
TZNAME:EST
DTSTART:20231105T060000
END:STANDARD
END:VTIMEZONE
BEGIN:VEVENT
DTSTART;TZID=America/New_York:20230724T140000
DTEND;TZID=America/New_York:20230724T170000
DTSTAMP:20260425T205744
CREATED:20230619T175034Z
LAST-MODIFIED:20230619T175034Z
UID:91765-1690207200-1690218000@www.thecatholictelegraph.com
SUMMARY:CANCER PRAYER SERVICE TO BE HELD AT SHRINE
DESCRIPTION:MARIA STEIN\, Ohio (June 19th\, 2023) – The Shrine is pleased to be able to offer the St. Peregrine Relic for prayer and veneration. Three times per year a prayer service is held for those who are on a journey with cancer\, whether it be as a patient or as a caregiver. The next service will be held on Sunday\, July 23rd at 2pm in the Shrine’s Adoration Chapel. This event is free and open to the public. All who have been affected by cancer are encouraged to attend. \nFor those battling cancer\, you can submit your name or a loved one’s name for prayer. Please contact Susan Jenkins at s.jenkins@mariasteinshrine.org or call 419-925-4532. \nThe Maria Stein Shrine of the Holy Relics provides faith nourishment and spiritual renewal through opportunities for prayer and pilgrimage and inspiration from the lives of the saints. People from around the world visit the shrine to explore and enjoy this environment rich in holiness and history. The Shrine is located at 2291 St. John’s Rd. in Maria Stein. For more event information\, visit www.mariasteinshrine.org.
URL:https://www.thecatholictelegraph.com/event/cancer-prayer-service-to-be-held-at-shrine
LOCATION:Maria Stein Shrine\, 2291 St. Johns Road\, Maria Stein\, OH\, 45860\, United States
ATTACH;FMTTYPE=image/jpeg:https://www.thecatholictelegraph.com/wp-content/uploads/2020/06/Convent-bldg-2-scaled.jpg
GEO:40.41602;-84.475857
X-APPLE-STRUCTURED-LOCATION;VALUE=URI;X-ADDRESS=Maria Stein Shrine 2291 St. Johns Road Maria Stein OH 45860 United States;X-APPLE-RADIUS=500;X-TITLE=2291 St. Johns Road:geo:-84.475857,40.41602
END:VEVENT
END:VCALENDAR