BEGIN:VCALENDAR
VERSION:2.0
PRODID:-//Catholic Telegraph - ECPv5.2.1.1//NONSGML v1.0//EN
CALSCALE:GREGORIAN
METHOD:PUBLISH
X-WR-CALNAME:Catholic Telegraph
X-ORIGINAL-URL:https://www.thecatholictelegraph.com
X-WR-CALDESC:Events for Catholic Telegraph
BEGIN:VTIMEZONE
TZID:America/New_York
BEGIN:DAYLIGHT
TZOFFSETFROM:-0500
TZOFFSETTO:-0400
TZNAME:EDT
DTSTART:20260308T070000
END:DAYLIGHT
BEGIN:STANDARD
TZOFFSETFROM:-0400
TZOFFSETTO:-0500
TZNAME:EST
DTSTART:20261101T060000
END:STANDARD
END:VTIMEZONE
BEGIN:VEVENT
DTSTART;TZID=America/New_York:20260628T090000
DTEND;TZID=America/New_York:20260628T230000
DTSTAMP:20260421T172554
CREATED:20260413T202654Z
LAST-MODIFIED:20260413T202654Z
UID:106696-1782637200-1782687600@www.thecatholictelegraph.com
SUMMARY:Maria Stein Annual Country Fest at Maria Stein
DESCRIPTION:Maria Stein Annual Country Fest – Maria Stein\nFriday\, June 26\, Beginning at 5:00 p.m.\nSaturday\, June 27\, 9:00 a.m. – Midnight\nSunday\, June 28\, 9:00 a.m. – 11:00 p.m.\nShrine of the Holy Relics\, 2291 St. Johns Rd.  Maria Stein\, Ohio\, 45860\nMSCountryFest\n419-925-4532
URL:https://www.thecatholictelegraph.com/event/maria-stein-annual-country-fest-at-maria-stein/2026-06-28
LOCATION:Maria Stein Shrine\, 2291 St. Johns Road\, Maria Stein\, OH\, 45860\, United States
ATTACH;FMTTYPE=image/jpeg:https://www.thecatholictelegraph.com/wp-content/uploads/2012/04/DSC_0465aa.jpg
GEO:40.41602;-84.475857
X-APPLE-STRUCTURED-LOCATION;VALUE=URI;X-ADDRESS=Maria Stein Shrine 2291 St. Johns Road Maria Stein OH 45860 United States;X-APPLE-RADIUS=500;X-TITLE=2291 St. Johns Road:geo:-84.475857,40.41602
END:VEVENT
BEGIN:VEVENT
DTSTART;TZID=America/New_York:20260628T123000
DTEND;TZID=America/New_York:20260628T180000
DTSTAMP:20260421T172554
CREATED:20260414T163414Z
LAST-MODIFIED:20260414T163414Z
UID:106709-1782649800-1782669600@www.thecatholictelegraph.com
SUMMARY:St Veronica Festival Mount Carmel
DESCRIPTION:St. Veronica Mount Carmel\nSt Mary Magdalene Family of Parishes\nFriday\, June 26\, 6:00 p.m.-11:00 p.m.\nSaturday\, June 27\, 5:00 p.m. –11:00 p.m.\nSunday\, June 28\, 12:30 p.m.-6:00 p.m.\n4473 Mt. Carmel-Tobasco Rd.\, Cincinnati\, OH 45244\n513-528-1622
URL:https://www.thecatholictelegraph.com/event/st-veronica-festival-mount-carmel/2026-06-28
LOCATION:St\, Veronica (Mount Carmel)\, 4473 Mt. Carmel-Tobasco Rd.\, Cincinnati\, OH\, 45244\, United States
ATTACH;FMTTYPE=image/jpeg:https://www.thecatholictelegraph.com/wp-content/uploads/2017/06/DSC_0856.jpg
END:VEVENT
BEGIN:VEVENT
DTSTART;TZID=America/New_York:20260628T130000
DTEND;TZID=America/New_York:20260628T190000
DTSTAMP:20260421T172554
CREATED:20260413T200756Z
LAST-MODIFIED:20260413T200756Z
UID:106684-1782651600-1782673200@www.thecatholictelegraph.com
SUMMARY:St. John the Baptist Festival Harrison
DESCRIPTION:St. John the Baptist Harrison\nFriday June 26 6:00 p.m. – 11:30 p.m.\nSaturday June 27 5:00 p.m. – 11:30 p.m.\nSunday June 28 1:00 p..m. – 7:00 p.m.\n509 Harrison Ave\, Harrison\, OH 45030
URL:https://www.thecatholictelegraph.com/event/st-john-the-baptist-festival-harrison/2026-06-28
LOCATION:St. John the Baptist\, Harrison\, 509 Harrison Ave\, Harrison\, OH\, 45030-1299\, United States
ATTACH;FMTTYPE=image/jpeg:https://www.thecatholictelegraph.com/wp-content/uploads/2023/08/DSC_0448a.jpg
GEO:39.2627787;-84.814011
X-APPLE-STRUCTURED-LOCATION;VALUE=URI;X-ADDRESS=St. John the Baptist Harrison 509 Harrison Ave Harrison OH 45030-1299 United States;X-APPLE-RADIUS=500;X-TITLE=509 Harrison Ave:geo:-84.814011,39.2627787
END:VEVENT
BEGIN:VEVENT
DTSTART;TZID=America/New_York:20260628T150000
DTEND;TZID=America/New_York:20260628T210000
DTSTAMP:20260421T172554
CREATED:20260413T201732Z
LAST-MODIFIED:20260413T201732Z
UID:106691-1782658800-1782680400@www.thecatholictelegraph.com
SUMMARY:The Festival at St. John XXIII School Middletown
DESCRIPTION:St. John XXIII School Middletown\nFriday\, June 26\, – 6:00 p.m. – Midnight\nSaturday\, June 27\, – 4:00 p.m. – Midnight\nSunday\, June 28 – 3:00 p.m. – 9:00 p.m.\n3806 Manchester Rd\, Middletown\, OH 45042\n513-424-1196
URL:https://www.thecatholictelegraph.com/event/the-festival-at-st-john-xxiii-school-middletown/2026-06-28
LOCATION:St. John XXIII School\, 3806 Manchester Road\, MIDDLETOWN\, OH\, 45042
ATTACH;FMTTYPE=image/jpeg:https://www.thecatholictelegraph.com/wp-content/uploads/2017/06/DSC_0852.jpg
END:VEVENT
END:VCALENDAR