BEGIN:VCALENDAR
VERSION:2.0
PRODID:-//Catholic Telegraph - ECPv5.2.1.1//NONSGML v1.0//EN
CALSCALE:GREGORIAN
METHOD:PUBLISH
X-WR-CALNAME:Catholic Telegraph
X-ORIGINAL-URL:https://www.thecatholictelegraph.com
X-WR-CALDESC:Events for Catholic Telegraph
BEGIN:VTIMEZONE
TZID:America/New_York
BEGIN:DAYLIGHT
TZOFFSETFROM:-0500
TZOFFSETTO:-0400
TZNAME:EDT
DTSTART:20260308T070000
END:DAYLIGHT
BEGIN:STANDARD
TZOFFSETFROM:-0400
TZOFFSETTO:-0500
TZNAME:EST
DTSTART:20261101T060000
END:STANDARD
END:VTIMEZONE
BEGIN:VEVENT
DTSTART;TZID=America/New_York:20260703T190000
DTEND;TZID=America/New_York:20260704T190000
DTSTAMP:20260421T172549
CREATED:20260409T162814Z
LAST-MODIFIED:20260409T162814Z
UID:106540-1783105200-1783191600@www.thecatholictelegraph.com
SUMMARY:Vigil of Two Hearts at St Joseph Fort Recovery
DESCRIPTION:Holy Cross Family of Parishes\nSt. Joseph\, 1689 St Joe Rd\, Fort Recovery\, OH 45846\n\nVIGIL OF TWO HEARTS \nFriday\,April 10\n7pm: Rosary& Confessions\n8pm: Holy Mass followed by Exposition of the Most\nBlessed Sacrament\n8:30 pm -12am: Ongoing Eucharistic Adoration throughout the night with private & community prayer \nSaturday\,April 11\n12 am -8:40am: Continued Eucharistic Adoration\n7:45 am: Rosary\n8:45 am: Benediction\n9am: Holy Mass\n9:30 am: Confessions
URL:https://www.thecatholictelegraph.com/event/vigil-of-two-hearts-at-st-joseph-fort-recovery-2/2026-07-03
LOCATION:St. Joseph (Fort Recovery)\, 1689 St Joe Rd\, Fort Recovery\, OH\, 45846\, United States
ATTACH;FMTTYPE=image/jpeg:https://www.thecatholictelegraph.com/wp-content/uploads/2020/04/sacredheartusccb.jpg
END:VEVENT
BEGIN:VEVENT
DTSTART;TZID=America/New_York:20260704T110000
DTEND;TZID=America/New_York:20260704T230000
DTSTAMP:20260421T172549
CREATED:20260414T164403Z
LAST-MODIFIED:20260414T164403Z
UID:106713-1783162800-1783206000@www.thecatholictelegraph.com
SUMMARY:St. Joseph Family Patriotic Festival Wapakoneta
DESCRIPTION:St. Joseph Family Patriotic Festival Wapakoneta\nHoly Face of Jesus Family of Parishes\nFriday\, July 3\, 4:00 p.m. – Midnight\nSaturday\, July 4\, 11:00 a.m.-11:00 p.m.\nAuglaize County Fairground\, 1001 Fairview Dr.\, Wapakoneta\, 45895\n419-738-2115
URL:https://www.thecatholictelegraph.com/event/st-joseph-family-patriotic-festival-wapakoneta/2026-07-04
LOCATION:Auglaize County Fairgrounds\, 1001 Fairview Dr\, Wapakoneta\, Ohio\, 45895
ATTACH;FMTTYPE=image/jpeg:https://www.thecatholictelegraph.com/wp-content/uploads/2019/05/DSC_0982aa.jpg
GEO:40.5622376;-84.2120215
X-APPLE-STRUCTURED-LOCATION;VALUE=URI;X-ADDRESS=Auglaize County Fairgrounds 1001 Fairview Dr Wapakoneta Ohio 45895;X-APPLE-RADIUS=500;X-TITLE=1001 Fairview Dr:geo:-84.2120215,40.5622376
END:VEVENT
END:VCALENDAR