BEGIN:VCALENDAR
VERSION:2.0
PRODID:-//Catholic Telegraph - ECPv5.2.1.1//NONSGML v1.0//EN
CALSCALE:GREGORIAN
METHOD:PUBLISH
X-WR-CALNAME:Catholic Telegraph
X-ORIGINAL-URL:https://www.thecatholictelegraph.com
X-WR-CALDESC:Events for Catholic Telegraph
BEGIN:VTIMEZONE
TZID:America/New_York
BEGIN:DAYLIGHT
TZOFFSETFROM:-0500
TZOFFSETTO:-0400
TZNAME:EDT
DTSTART:20260308T070000
END:DAYLIGHT
BEGIN:STANDARD
TZOFFSETFROM:-0400
TZOFFSETTO:-0500
TZNAME:EST
DTSTART:20261101T060000
END:STANDARD
END:VTIMEZONE
BEGIN:VEVENT
DTSTART;TZID=America/New_York:20260719T130000
DTEND;TZID=America/New_York:20260719T190000
DTSTAMP:20260421T205231
CREATED:20260414T183557Z
LAST-MODIFIED:20260414T183557Z
UID:106727-1784466000-1784487600@www.thecatholictelegraph.com
SUMMARY:Mary Help of Christians 53rd Annual Festival Fairborn
DESCRIPTION:Mary Help of Christians 53rd Annual Festival Fairborn\nSt\, Michael the Archangel Family of Parishes\nFriday\, July 17\, 6:00 p.m.-11:00 p.m.\nSaturday\, July 18\, 2:00 p.m.-11:00 p.m.\nSunday\, July 99\, 1:00 p.m.-7:00 p.m.\n954 N. Maple Ave.\, Fairborn\, OH 45324\n937-878-8353
URL:https://www.thecatholictelegraph.com/event/mary-help-of-christians-53rd-annual-festival-fairborn/2026-07-19
LOCATION:Mary Help of Christians (Fairborn)\, 954 North Maple\, Fairborn\, OH\, 45324\, United States
ATTACH;FMTTYPE=image/jpeg:https://www.thecatholictelegraph.com/wp-content/uploads/2012/04/DSC_0427a.jpg
END:VEVENT
BEGIN:VEVENT
DTSTART;TZID=America/New_York:20260719T160000
DTEND;TZID=America/New_York:20260719T210000
DTSTAMP:20260421T205231
CREATED:20260414T184620Z
LAST-MODIFIED:20260414T184620Z
UID:106733-1784476800-1784494800@www.thecatholictelegraph.com
SUMMARY:St. Cecilia Festival Oakley
DESCRIPTION:St. Cecilia Festival – Oakley\nFriday\, July 17\, 6:00 p.m.-Midnight\nSaturday\, July 18\, 5:00 p.m.-Midnight\nSunday\, July 29\, 4:00 p.m.-9:00 p.m.\n3105 Madison Rd\, Cincinnati\, OH 45209\n513-871-5757
URL:https://www.thecatholictelegraph.com/event/st-cecilia-festival-oakley/2026-07-19
LOCATION:St. Cecilia Catholic Church\, 3105 Madison Rd\, Cincinnati\, OH\, 45209\, United States
ATTACH;FMTTYPE=image/jpeg:https://www.thecatholictelegraph.com/wp-content/uploads/2017/06/DSC_0820.jpg
GEO:39.152886;-84.4297169
X-APPLE-STRUCTURED-LOCATION;VALUE=URI;X-ADDRESS=St. Cecilia Catholic Church 3105 Madison Rd Cincinnati OH 45209 United States;X-APPLE-RADIUS=500;X-TITLE=3105 Madison Rd:geo:-84.4297169,39.152886
END:VEVENT
END:VCALENDAR