BEGIN:VCALENDAR
VERSION:2.0
PRODID:-//Catholic Telegraph - ECPv5.2.1.1//NONSGML v1.0//EN
CALSCALE:GREGORIAN
METHOD:PUBLISH
X-WR-CALNAME:Catholic Telegraph
X-ORIGINAL-URL:https://www.thecatholictelegraph.com
X-WR-CALDESC:Events for Catholic Telegraph
BEGIN:VTIMEZONE
TZID:America/New_York
BEGIN:DAYLIGHT
TZOFFSETFROM:-0500
TZOFFSETTO:-0400
TZNAME:EDT
DTSTART:20260308T070000
END:DAYLIGHT
BEGIN:STANDARD
TZOFFSETFROM:-0400
TZOFFSETTO:-0500
TZNAME:EST
DTSTART:20261101T060000
END:STANDARD
END:VTIMEZONE
BEGIN:VEVENT
DTSTART;TZID=America/New_York:20260726T150000
DTEND;TZID=America/New_York:20260726T210000
DTSTAMP:20260421T203827
CREATED:20260416T182624Z
LAST-MODIFIED:20260416T182624Z
UID:106780-1785078000-1785099600@www.thecatholictelegraph.com
SUMMARY:St James Festival White Oak
DESCRIPTION:St. James the Greater Family Festival White Oak\nMary Queen of Heaven Family of Parishes\nFriday\, July 24\, 6:00 p.m.-11:00 p.m.\nSaturday\, July 25\, 5:30 p.m.-11:00 p.m.\nSunday\, July 20\, 3:00 p.m.-9:00 p.m.\n3565 Hubble Rd.\, Cincinnati\, 45247\n513-741-5300\nwww.stjamesfestival.com \nCelebrating the Feast Day of St. James the Greater on July 25!
URL:https://www.thecatholictelegraph.com/event/st-james-festival-white-oak/2026-07-26
LOCATION:St. James the Greater (White Oak)\, 3565 Hubble Road\, Cincinnati\, Ohio\, 45247
ATTACH;FMTTYPE=image/jpeg:https://www.thecatholictelegraph.com/wp-content/uploads/2018/06/DSC_0452aa.jpg
GEO:39.2036225;-84.6004336
X-APPLE-STRUCTURED-LOCATION;VALUE=URI;X-ADDRESS=St. James the Greater (White Oak) 3565 Hubble Road Cincinnati Ohio 45247;X-APPLE-RADIUS=500;X-TITLE=3565 Hubble Road:geo:-84.6004336,39.2036225
END:VEVENT
BEGIN:VEVENT
DTSTART;TZID=America/New_York:20260726T150000
DTEND;TZID=America/New_York:20260726T200000
DTSTAMP:20260421T203827
CREATED:20260416T200110Z
LAST-MODIFIED:20260416T200110Z
UID:106797-1785078000-1785096000@www.thecatholictelegraph.com
SUMMARY:St. Margaret of York SMOY Fest 2026 Loveland
DESCRIPTION:St. Margaret of York SMOY Fest 2026 Loveland\nSE-4 Family of Parishes\nFriday\, July 24\, 6:00 p.m. – 11:30 p.m.\nSaturday\, July 25\, 5:00 p.m. – 11:30 p.m.\nSunday\, July 26\, 3:00 p.m. – 8:00 p.m.\n9499 Columbia Rd.\, Loveland\, 45140\n513-697-3100
URL:https://www.thecatholictelegraph.com/event/st-margaret-of-york-smoy-fest-2026-loveland/2026-07-26
LOCATION:St. Margaret of York\, 9483 Columbia Road\, Loveland\, OH\, 45140-1560\, United States
ATTACH;FMTTYPE=image/jpeg:https://www.thecatholictelegraph.com/wp-content/uploads/2017/06/DSC_0977.jpg
GEO:39.297626;-84.280191
X-APPLE-STRUCTURED-LOCATION;VALUE=URI;X-ADDRESS=St. Margaret of York 9483 Columbia Road Loveland OH 45140-1560 United States;X-APPLE-RADIUS=500;X-TITLE=9483 Columbia Road:geo:-84.280191,39.297626
END:VEVENT
BEGIN:VEVENT
DTSTART;TZID=America/New_York:20260726T160000
DTEND;TZID=America/New_York:20260726T220000
DTSTAMP:20260421T203827
CREATED:20260413T192548Z
LAST-MODIFIED:20260413T192548Z
UID:106663-1785081600-1785103200@www.thecatholictelegraph.com
SUMMARY:Holy Trinity Festival Norwood
DESCRIPTION:Holy Trinity Norwood\nCrescent Family of Parishes\nFriday\, July 24\, 6:00 p.m. – Midnight\nSaturday\, July 25\, 6:00 p.m. – Midnight\nSunday\, July 26\, 4:00 p.m. – 10:00 p.m.\n2420 Drex Ave.\, Norwood\, OH 45212\n513-366-4400
URL:https://www.thecatholictelegraph.com/event/holy-trinity-festival-norwood/2026-07-26
LOCATION:Ohio
ATTACH;FMTTYPE=image/jpeg:https://www.thecatholictelegraph.com/wp-content/uploads/2017/06/DSC_0977.jpg
END:VEVENT
END:VCALENDAR