BEGIN:VCALENDAR
VERSION:2.0
PRODID:-//Catholic Telegraph - ECPv5.2.1.1//NONSGML v1.0//EN
CALSCALE:GREGORIAN
METHOD:PUBLISH
X-WR-CALNAME:Catholic Telegraph
X-ORIGINAL-URL:https://www.thecatholictelegraph.com
X-WR-CALDESC:Events for Catholic Telegraph
BEGIN:VTIMEZONE
TZID:America/New_York
BEGIN:DAYLIGHT
TZOFFSETFROM:-0500
TZOFFSETTO:-0400
TZNAME:EDT
DTSTART:20260308T070000
END:DAYLIGHT
BEGIN:STANDARD
TZOFFSETFROM:-0400
TZOFFSETTO:-0500
TZNAME:EST
DTSTART:20261101T060000
END:STANDARD
END:VTIMEZONE
BEGIN:VEVENT
DTSTART;TZID=America/New_York:20261028T200000
DTEND;TZID=America/New_York:20261028T213000
DTSTAMP:20260422T015647
CREATED:20260306T195739Z
LAST-MODIFIED:20260306T195739Z
UID:105419-1793217600-1793223000@www.thecatholictelegraph.com
SUMMARY:Candlelight Mass at St. Lawrence Price Hill
DESCRIPTION:St. John Bosco Family of Parishes\nCandlelight Mass at St. Lawrence\, 3680 Warsaw Ave.\, Cincinnati\, OH 45205\nLast Wednesday of every month\n8:00 p.m.\nJoin us on the last Wednesday of each month at 8:00 PM for Candlelight Mass. Experience the beauty of the liturgy in a peaceful\, prayerful setting illuminated by candlelight. SOCIAL FOLLOWING
URL:https://www.thecatholictelegraph.com/event/candlelight-mass-at-st-lawrence-price-hill/2026-10-28
LOCATION:St. Lawrence Church (Price Hill)\, 3680 Warsaw Avenue\, Cincinnati\, OH\, 45205-1759\, United States
ATTACH;FMTTYPE=image/jpeg:https://www.thecatholictelegraph.com/wp-content/uploads/2014/04/Easter-Vigil-03.jpg
GEO:39.1115262;-84.5728716
X-APPLE-STRUCTURED-LOCATION;VALUE=URI;X-ADDRESS=St. Lawrence Church (Price Hill) 3680 Warsaw Avenue Cincinnati OH 45205-1759 United States;X-APPLE-RADIUS=500;X-TITLE=3680 Warsaw Avenue:geo:-84.5728716,39.1115262
END:VEVENT
END:VCALENDAR