BEGIN:VCALENDAR
VERSION:2.0
PRODID:-//Catholic Telegraph - ECPv5.2.1.1//NONSGML v1.0//EN
CALSCALE:GREGORIAN
METHOD:PUBLISH
X-WR-CALNAME:Catholic Telegraph
X-ORIGINAL-URL:https://www.thecatholictelegraph.com
X-WR-CALDESC:Events for Catholic Telegraph
BEGIN:VTIMEZONE
TZID:America/New_York
BEGIN:DAYLIGHT
TZOFFSETFROM:-0500
TZOFFSETTO:-0400
TZNAME:EDT
DTSTART:20260308T070000
END:DAYLIGHT
BEGIN:STANDARD
TZOFFSETFROM:-0400
TZOFFSETTO:-0500
TZNAME:EST
DTSTART:20261101T060000
END:STANDARD
END:VTIMEZONE
BEGIN:VEVENT
DTSTART;TZID=America/New_York:20260425T080000
DTEND;TZID=America/New_York:20260425T170000
DTSTAMP:20260424T063225
CREATED:20260307T190220Z
LAST-MODIFIED:20260307T190220Z
UID:105453-1777104000-1777136400@www.thecatholictelegraph.com
SUMMARY:2026 Sacred Heart Golf Outing Fairfield
DESCRIPTION:The 2026 Sacred Heart Golf Outing is Saturday\, April 25th! \nFairfield South Trace Golf Course \n2200 John Gray Rd. \nAM Flight 8:00 a.m. \nPM Flight 1:30 p.m. \nClick Here for Online Registration \nIf you prefer to mail your registration: \nClick Here for  Printable Registration Flyer \n$125 per Golfer \n$500 per Foursome \n$550 per Foursome + Hole Sponsor \n$20 Dinner Only \nGolf Includes: Golf\, cart\, lunch\, beverages\, mulligans\, skins\, golfer gift\, hole in one contest\, door prizes and dinner. \nPrizes for 1st\, 2nd and 3rd place teams.
URL:https://www.thecatholictelegraph.com/event/2026-sacred-heart-golf-outing-fairfield
LOCATION:Fairfield South Trace Golf Course\, 2200 John Gray R\, Fairfield\, OH\, 45014\, United States
ATTACH;FMTTYPE=image/jpeg:https://www.thecatholictelegraph.com/wp-content/uploads/2026/03/Shutterstock_1218784069-scaled.jpg
END:VEVENT
END:VCALENDAR