BEGIN:VCALENDAR
VERSION:2.0
PRODID:-//Catholic Telegraph - ECPv5.2.1.1//NONSGML v1.0//EN
CALSCALE:GREGORIAN
METHOD:PUBLISH
X-WR-CALNAME:Catholic Telegraph
X-ORIGINAL-URL:https://www.thecatholictelegraph.com
X-WR-CALDESC:Events for Catholic Telegraph
BEGIN:VTIMEZONE
TZID:America/New_York
BEGIN:DAYLIGHT
TZOFFSETFROM:-0500
TZOFFSETTO:-0400
TZNAME:EDT
DTSTART:20180311T070000
END:DAYLIGHT
BEGIN:STANDARD
TZOFFSETFROM:-0400
TZOFFSETTO:-0500
TZNAME:EST
DTSTART:20181104T060000
END:STANDARD
END:VTIMEZONE
BEGIN:VEVENT
DTSTART;TZID=America/New_York:20180907T133000
DTEND;TZID=America/New_York:20180907T133000
DTSTAMP:20260424T094530
CREATED:20180821T194021Z
LAST-MODIFIED:20180821T194021Z
UID:53405-1536327000-1536327000@www.thecatholictelegraph.com
SUMMARY:40 Hours at St. Cecilia Begins (Oakley)
DESCRIPTION:The parish Forty Hours Exposition and Adoration will begin with a special 1:30 p.m. Mass on Friday\, followed by continuous adoration until a closing ceremony Sunday\, Sept. 9\, at the end of the 10 a.m. Mass. The weekend will conclude with a brunch in the school cafeteria immediately following the closing ceremony. Parishioners and friends of the parish encouraged to be a guardian adorer in shifts during that time; all welcome to stop in for prayer.
URL:https://www.thecatholictelegraph.com/event/40-hours-at-st-cecilia-begins-oakley
LOCATION:St. Cecilia Parish\, Oakley\, 3105 Madison Rd\, Cincinnati\, OH\, 45209-1392\, United States
GEO:39.1527155;-84.4298934
X-APPLE-STRUCTURED-LOCATION;VALUE=URI;X-ADDRESS=St. Cecilia Parish Oakley 3105 Madison Rd Cincinnati OH 45209-1392 United States;X-APPLE-RADIUS=500;X-TITLE=3105 Madison Rd:geo:-84.4298934,39.1527155
END:VEVENT
END:VCALENDAR