BEGIN:VCALENDAR
VERSION:2.0
PRODID:-//Catholic Telegraph - ECPv5.2.1.1//NONSGML v1.0//EN
CALSCALE:GREGORIAN
METHOD:PUBLISH
X-WR-CALNAME:Catholic Telegraph
X-ORIGINAL-URL:https://www.thecatholictelegraph.com
X-WR-CALDESC:Events for Catholic Telegraph
BEGIN:VTIMEZONE
TZID:America/New_York
BEGIN:DAYLIGHT
TZOFFSETFROM:-0500
TZOFFSETTO:-0400
TZNAME:EDT
DTSTART:20190310T070000
END:DAYLIGHT
BEGIN:STANDARD
TZOFFSETFROM:-0400
TZOFFSETTO:-0500
TZNAME:EST
DTSTART:20191103T060000
END:STANDARD
END:VTIMEZONE
BEGIN:VEVENT
DTSTART;VALUE=DATE:20190719
DTEND;VALUE=DATE:20190720
DTSTAMP:20260425T195521
CREATED:20190702T190247Z
LAST-MODIFIED:20190702T190336Z
UID:58325-1563494400-1563580799@www.thecatholictelegraph.com
SUMMARY:Deadline for the St. Vincent de Paul Golf Tournament
DESCRIPTION:Event: Deadline for the St. Vincent de Paul Golf Tournament\nWhen: Registration Deadline July 19\nWhere: Yankee Trace Golf Club \nSign up is underway for the 23rd Annual Gene Westendorf Memorial Golf Tournament on Friday\, July 26 at the Golf Club at Yankee Trace. For information\, contact stvincentdayton.org or call (937)222-5555. Registration deadline is July 19
URL:https://www.thecatholictelegraph.com/event/58325
LOCATION:The Golf Club at Yankee Trace\, 10000 Yankee St.\,\, Centerville\, Ohio \, 45458
GEO:39.5988993;-84.1974712
X-APPLE-STRUCTURED-LOCATION;VALUE=URI;X-ADDRESS=The Golf Club at Yankee Trace 10000 Yankee St. Centerville Ohio  45458;X-APPLE-RADIUS=500;X-TITLE=10000 Yankee St.\,:geo:-84.1974712,39.5988993
END:VEVENT
END:VCALENDAR