BEGIN:VCALENDAR
VERSION:2.0
PRODID:-//Catholic Telegraph - ECPv5.2.1.1//NONSGML v1.0//EN
CALSCALE:GREGORIAN
METHOD:PUBLISH
X-WR-CALNAME:Catholic Telegraph
X-ORIGINAL-URL:https://www.thecatholictelegraph.com
X-WR-CALDESC:Events for Catholic Telegraph
BEGIN:VTIMEZONE
TZID:America/New_York
BEGIN:DAYLIGHT
TZOFFSETFROM:-0500
TZOFFSETTO:-0400
TZNAME:EDT
DTSTART:20170312T070000
END:DAYLIGHT
BEGIN:STANDARD
TZOFFSETFROM:-0400
TZOFFSETTO:-0500
TZNAME:EST
DTSTART:20171105T060000
END:STANDARD
END:VTIMEZONE
BEGIN:VEVENT
DTSTART;TZID=America/New_York:20171220T203000
DTEND;TZID=America/New_York:20171220T220000
DTSTAMP:20260420T175511
CREATED:20171219T195603Z
LAST-MODIFIED:20171219T195603Z
UID:47609-1513801800-1513807200@www.thecatholictelegraph.com
SUMMARY:Advent Lessons and Carols at St. Columban
DESCRIPTION:Scripture readings and carols anticipate the birth of Christ.
URL:https://www.thecatholictelegraph.com/event/advent-lessons-and-carols-at-st-columban
LOCATION:St. Columban Church\, 894 Oakland Rd\, Loveland\, Ohio \, 45140
GEO:39.2590801;-84.2467362
X-APPLE-STRUCTURED-LOCATION;VALUE=URI;X-ADDRESS=St. Columban Church 894 Oakland Rd Loveland Ohio  45140;X-APPLE-RADIUS=500;X-TITLE=894 Oakland Rd:geo:-84.2467362,39.2590801
END:VEVENT
END:VCALENDAR