BEGIN:VCALENDAR
VERSION:2.0
PRODID:-//Catholic Telegraph - ECPv5.2.1.1//NONSGML v1.0//EN
CALSCALE:GREGORIAN
METHOD:PUBLISH
X-WR-CALNAME:Catholic Telegraph
X-ORIGINAL-URL:https://www.thecatholictelegraph.com
X-WR-CALDESC:Events for Catholic Telegraph
BEGIN:VTIMEZONE
TZID:America/New_York
BEGIN:DAYLIGHT
TZOFFSETFROM:-0500
TZOFFSETTO:-0400
TZNAME:EDT
DTSTART:20170312T070000
END:DAYLIGHT
BEGIN:STANDARD
TZOFFSETFROM:-0400
TZOFFSETTO:-0500
TZNAME:EST
DTSTART:20171105T060000
END:STANDARD
END:VTIMEZONE
BEGIN:VEVENT
DTSTART;TZID=America/New_York:20170819T090000
DTEND;TZID=America/New_York:20170819T143000
DTSTAMP:20260425T191539
CREATED:20170808T151445Z
LAST-MODIFIED:20170808T151445Z
UID:44274-1503133200-1503153000@www.thecatholictelegraph.com
SUMMARY:Alpha Training in Centerville
DESCRIPTION:Catholic parishes around the country are effectively using Alpha to reach people who have little or no familiarity with Christianity Gather with other parishes and with non-Catholic churches across the region (Alpha is available in Catholic and Protestant formats)  for an interactive training to experience what it’s like to run an Alpha course. \nThe topics will include:\nWhat is Alpha\nSeven best practices of Alpha\nThe Alpha Small Group\nPrayer Ministry\nIndividual Registration: $30.00 \nGroup Registration ( four for more: $20.00/ea. \nWalk-in Registration: $35.00 \n 
URL:https://www.thecatholictelegraph.com/event/alpha-training-in-centerville
LOCATION:Fairhaven Church – Centerville Campus\, 637 E. Whip Road\, Centerville\, OH
GEO:39.6597946;-84.1448614
X-APPLE-STRUCTURED-LOCATION;VALUE=URI;X-ADDRESS=Fairhaven Church – Centerville Campus 637 E. Whip Road Centerville OH;X-APPLE-RADIUS=500;X-TITLE=637 E. Whip Road:geo:-84.1448614,39.6597946
END:VEVENT
END:VCALENDAR