BEGIN:VCALENDAR
VERSION:2.0
PRODID:-//Catholic Telegraph - ECPv5.2.1.1//NONSGML v1.0//EN
CALSCALE:GREGORIAN
METHOD:PUBLISH
X-WR-CALNAME:Catholic Telegraph
X-ORIGINAL-URL:https://www.thecatholictelegraph.com
X-WR-CALDESC:Events for Catholic Telegraph
BEGIN:VTIMEZONE
TZID:America/New_York
BEGIN:DAYLIGHT
TZOFFSETFROM:-0500
TZOFFSETTO:-0400
TZNAME:EDT
DTSTART:20200308T070000
END:DAYLIGHT
BEGIN:STANDARD
TZOFFSETFROM:-0400
TZOFFSETTO:-0500
TZNAME:EST
DTSTART:20201101T060000
END:STANDARD
END:VTIMEZONE
BEGIN:VEVENT
DTSTART;TZID=America/New_York:20201003T100000
DTEND;TZID=America/New_York:20201003T110000
DTSTAMP:20260424T024246
CREATED:20200908T205344Z
LAST-MODIFIED:20200908T205344Z
UID:69053-1601719200-1601722800@www.thecatholictelegraph.com
SUMMARY:Annual Blessing of the Pets
DESCRIPTION:Saint Cecilia Parish will commemorate the feast of St. Francis of Assisi\, the Patron Saint of Animals\, with our annual Blessing of Pets on Saturday\, Oct. 3\, at 10:00 AM in the Rectory side yard.  We encourage you to bring any and all pets\, big or small.  Father will ask God to bless them with yearlong good health and safety.  And with that in mind for owners too\, we ask that you responsibly socially distance\, wear a mask\, and have your pet on a leash or in an appropriate carrier.   Those interested should  bring your pet(s) to the side yard on Gilmore Avenue a few minutes before 10:00 AM.
URL:https://www.thecatholictelegraph.com/event/annual-blessing-of-the-pets
LOCATION:St. Cecilia Catholic Church\, 3105 Madison Rd\, Cincinnati\, OH\, 45209\, United States
ATTACH;FMTTYPE=image/jpeg:https://www.thecatholictelegraph.com/wp-content/uploads/2019/12/IMG_4261.jpg
GEO:39.152886;-84.4297169
X-APPLE-STRUCTURED-LOCATION;VALUE=URI;X-ADDRESS=St. Cecilia Catholic Church 3105 Madison Rd Cincinnati OH 45209 United States;X-APPLE-RADIUS=500;X-TITLE=3105 Madison Rd:geo:-84.4297169,39.152886
END:VEVENT
END:VCALENDAR