BEGIN:VCALENDAR
VERSION:2.0
PRODID:-//Catholic Telegraph - ECPv5.2.1.1//NONSGML v1.0//EN
CALSCALE:GREGORIAN
METHOD:PUBLISH
X-WR-CALNAME:Catholic Telegraph
X-ORIGINAL-URL:https://www.thecatholictelegraph.com
X-WR-CALDESC:Events for Catholic Telegraph
BEGIN:VTIMEZONE
TZID:America/New_York
BEGIN:DAYLIGHT
TZOFFSETFROM:-0500
TZOFFSETTO:-0400
TZNAME:EDT
DTSTART:20180311T070000
END:DAYLIGHT
BEGIN:STANDARD
TZOFFSETFROM:-0400
TZOFFSETTO:-0500
TZNAME:EST
DTSTART:20181104T060000
END:STANDARD
END:VTIMEZONE
BEGIN:VEVENT
DTSTART;TZID=America/New_York:20181215T081500
DTEND;TZID=America/New_York:20181215T091500
DTSTAMP:20260419T155920
CREATED:20181129T210609Z
LAST-MODIFIED:20181129T210731Z
UID:55180-1544861700-1544865300@www.thecatholictelegraph.com
SUMMARY:Anointing of the Sick
DESCRIPTION:The Sacrament of the Anointing of the Sick is given to those who are seriously ill\, planning to have surgery\, or are impaired by old age. If you would like to be anointed\, please attend Mass on December 15th at 8:15 a.m.
URL:https://www.thecatholictelegraph.com/event/anointing-of-the-sick
LOCATION:St. Susanna Parish\, 616 Reading Rd\, Mason\, OH\, 45040\, United States
GEO:39.3532959;-84.3172069
X-APPLE-STRUCTURED-LOCATION;VALUE=URI;X-ADDRESS=St. Susanna Parish 616 Reading Rd Mason OH 45040 United States;X-APPLE-RADIUS=500;X-TITLE=616 Reading Rd:geo:-84.3172069,39.3532959
END:VEVENT
END:VCALENDAR