BEGIN:VCALENDAR
VERSION:2.0
PRODID:-//Catholic Telegraph - ECPv5.2.1.1//NONSGML v1.0//EN
CALSCALE:GREGORIAN
METHOD:PUBLISH
X-WR-CALNAME:Catholic Telegraph
X-ORIGINAL-URL:https://www.thecatholictelegraph.com
X-WR-CALDESC:Events for Catholic Telegraph
BEGIN:VTIMEZONE
TZID:America/New_York
BEGIN:DAYLIGHT
TZOFFSETFROM:-0500
TZOFFSETTO:-0400
TZNAME:EDT
DTSTART:20170312T070000
END:DAYLIGHT
BEGIN:STANDARD
TZOFFSETFROM:-0400
TZOFFSETTO:-0500
TZNAME:EST
DTSTART:20171105T060000
END:STANDARD
END:VTIMEZONE
BEGIN:VEVENT
DTSTART;TZID=America/New_York:20170321T190000
DTEND;TZID=America/New_York:20170321T203000
DTSTAMP:20260421T085831
CREATED:20170314T155126Z
LAST-MODIFIED:20170314T155126Z
UID:40070-1490122800-1490128200@www.thecatholictelegraph.com
SUMMARY:Assisted Suicide Talk at Incarnation Church
DESCRIPTION:The Incarnation Church Respect Life Committee invites all to”What is So Wrong with Assisted Suicide?” the 5th annual Gert Clemens Discussion. The presentation will cover facts about physician-assisted suicide\, legal activity in Ohio\, and the Catholic perspective on this issue. Presenters will include Margie Christie of Dayton Right to Life and Father Brian Phelps.
URL:https://www.thecatholictelegraph.com/event/assisted-suicide-talk-at-incarnation-church
LOCATION:Incarnation Church\, 55 Williamsburg Ln\, Centerville\, OH\, 45459\, United States
GEO:39.6378287;-84.1606811
X-APPLE-STRUCTURED-LOCATION;VALUE=URI;X-ADDRESS=Incarnation Church 55 Williamsburg Ln Centerville OH 45459 United States;X-APPLE-RADIUS=500;X-TITLE=55 Williamsburg Ln:geo:-84.1606811,39.6378287
END:VEVENT
END:VCALENDAR