BEGIN:VCALENDAR
VERSION:2.0
PRODID:-//Catholic Telegraph - ECPv5.2.1.1//NONSGML v1.0//EN
CALSCALE:GREGORIAN
METHOD:PUBLISH
X-WR-CALNAME:Catholic Telegraph
X-ORIGINAL-URL:https://www.thecatholictelegraph.com
X-WR-CALDESC:Events for Catholic Telegraph
BEGIN:VTIMEZONE
TZID:America/New_York
BEGIN:DAYLIGHT
TZOFFSETFROM:-0500
TZOFFSETTO:-0400
TZNAME:EDT
DTSTART:20170312T070000
END:DAYLIGHT
BEGIN:STANDARD
TZOFFSETFROM:-0400
TZOFFSETTO:-0500
TZNAME:EST
DTSTART:20171105T060000
END:STANDARD
END:VTIMEZONE
BEGIN:VEVENT
DTSTART;TZID=America/New_York:20170805T110000
DTEND;TZID=America/New_York:20170805T220000
DTSTAMP:20260420T001827
CREATED:20170725T181214Z
LAST-MODIFIED:20170725T181214Z
UID:43883-1501930800-1501970400@www.thecatholictelegraph.com
SUMMARY:Baby Boomer Festival at St. Leonard (Centerville)
DESCRIPTION:Live music from the 60s\, 70s\, and 80s; crafts\, Classic Car Show\, food vendors\, more. In the front yard of St. Leonard\, Franciscan continuing-care retirement community. Eight bands (headliner: Hotspot) and former sportscaster Ryan Brant will be M.C.; kids area; craft beer; more. Last year’s festival drew more than 2\,500\, come see why!
URL:https://www.thecatholictelegraph.com/event/baby-boomer-festival-at-st-leonard-centerville
LOCATION:St. Leonard Reitrement Community\, 8100 Clyo Road\, Centerville\, Ohio\, 45458
GEO:39.624995;-84.1371095
X-APPLE-STRUCTURED-LOCATION;VALUE=URI;X-ADDRESS=St. Leonard Reitrement Community 8100 Clyo Road Centerville Ohio 45458;X-APPLE-RADIUS=500;X-TITLE=8100 Clyo Road:geo:-84.1371095,39.624995
END:VEVENT
END:VCALENDAR