BEGIN:VCALENDAR
VERSION:2.0
PRODID:-//Catholic Telegraph - ECPv5.2.1.1//NONSGML v1.0//EN
CALSCALE:GREGORIAN
METHOD:PUBLISH
X-WR-CALNAME:Catholic Telegraph
X-ORIGINAL-URL:https://www.thecatholictelegraph.com
X-WR-CALDESC:Events for Catholic Telegraph
BEGIN:VTIMEZONE
TZID:America/New_York
BEGIN:DAYLIGHT
TZOFFSETFROM:-0500
TZOFFSETTO:-0400
TZNAME:EDT
DTSTART:20170312T070000
END:DAYLIGHT
BEGIN:STANDARD
TZOFFSETFROM:-0400
TZOFFSETTO:-0500
TZNAME:EST
DTSTART:20171105T060000
END:STANDARD
END:VTIMEZONE
BEGIN:VEVENT
DTSTART;TZID=America/New_York:20170322T083000
DTEND;TZID=America/New_York:20170322T094500
DTSTAMP:20260421T070429
CREATED:20170221T152121Z
LAST-MODIFIED:20170221T152121Z
UID:39290-1490171400-1490175900@www.thecatholictelegraph.com
SUMMARY:Breakfast with Ryan Anderson at the Westin Hotel (Cincinnati)
DESCRIPTION:“Eggs\, Ethics and Religious Freedom… What’s Next?” Ruah Woods promises an eye-opening breakfast with Ryan T. Anderson\, who researches and writes about marriage and religious liberty as the William E. Simon senior research fellow in American Principles and Policy at the Heritage Foundation. His latest book\, co-authored with John Corvino\, “Debating Religious Liberty and Discrimination” will be released in June. Anderson received his bachelor degree from Princeton University and he holds a doctoral degree in political philosophy from the University of Notre Dame. Ticket price includes breakfast.
URL:https://www.thecatholictelegraph.com/event/breakfast-with-ryan-anderson-at-the-westin-hotel-cincinnati
LOCATION:Westin Hotel\, 21 E 5th Street\, Cincinnati\, OH\, 45202
GEO:39.1009303;-84.5124668
X-APPLE-STRUCTURED-LOCATION;VALUE=URI;X-ADDRESS=Westin Hotel 21 E 5th Street Cincinnati OH 45202;X-APPLE-RADIUS=500;X-TITLE=21 E 5th Street:geo:-84.5124668,39.1009303
END:VEVENT
END:VCALENDAR