BEGIN:VCALENDAR
VERSION:2.0
PRODID:-//Catholic Telegraph - ECPv5.2.1.1//NONSGML v1.0//EN
CALSCALE:GREGORIAN
METHOD:PUBLISH
X-WR-CALNAME:Catholic Telegraph
X-ORIGINAL-URL:https://www.thecatholictelegraph.com
X-WR-CALDESC:Events for Catholic Telegraph
BEGIN:VTIMEZONE
TZID:America/New_York
BEGIN:DAYLIGHT
TZOFFSETFROM:-0500
TZOFFSETTO:-0400
TZNAME:EDT
DTSTART:20190310T070000
END:DAYLIGHT
BEGIN:STANDARD
TZOFFSETFROM:-0400
TZOFFSETTO:-0500
TZNAME:EST
DTSTART:20191103T060000
END:STANDARD
END:VTIMEZONE
BEGIN:VEVENT
DTSTART;TZID=America/New_York:20191117T140000
DTEND;TZID=America/New_York:20191117T160000
DTSTAMP:20260425T093805
CREATED:20191105T150414Z
LAST-MODIFIED:20191105T150414Z
UID:60359-1573999200-1574006400@www.thecatholictelegraph.com
SUMMARY:Cancer Prayer Service Maria Stein Shrine
DESCRIPTION:What: Cancer Prayer Service\nWhere: Maria Stein Shrine\, 2291 St. John’s Rd.\, Maria Stein OH\nWhen: Sunday\, November 17\, 2019 at 2:00 p.m. \nMaria Stein Shrine will have their St. Peregrine Relic for prayer and veneration. Three times per year a prayer service is held for those who are on a journey with cancer\, whether it be as a patient or as a care-partner. \nThe guest speaker will be Deacon Gregg Elking. This event is free and open to the public. All who have been affected by cancer are encourage to attend.
URL:https://www.thecatholictelegraph.com/event/cancer-prayer-service-maria-stein-shrine
LOCATION:Maria Stein Shrine\, 2291 St. Johns Road\, Maria Stein\, OH\, 45860\, United States
GEO:40.41602;-84.475857
X-APPLE-STRUCTURED-LOCATION;VALUE=URI;X-ADDRESS=Maria Stein Shrine 2291 St. Johns Road Maria Stein OH 45860 United States;X-APPLE-RADIUS=500;X-TITLE=2291 St. Johns Road:geo:-84.475857,40.41602
END:VEVENT
END:VCALENDAR