BEGIN:VCALENDAR
VERSION:2.0
PRODID:-//Catholic Telegraph - ECPv5.2.1.1//NONSGML v1.0//EN
CALSCALE:GREGORIAN
METHOD:PUBLISH
X-WR-CALNAME:Catholic Telegraph
X-ORIGINAL-URL:https://www.thecatholictelegraph.com
X-WR-CALDESC:Events for Catholic Telegraph
BEGIN:VTIMEZONE
TZID:America/New_York
BEGIN:DAYLIGHT
TZOFFSETFROM:-0500
TZOFFSETTO:-0400
TZNAME:EDT
DTSTART:20170312T070000
END:DAYLIGHT
BEGIN:STANDARD
TZOFFSETFROM:-0400
TZOFFSETTO:-0500
TZNAME:EST
DTSTART:20171105T060000
END:STANDARD
END:VTIMEZONE
BEGIN:VEVENT
DTSTART;TZID=America/New_York:20171030T190000
DTEND;TZID=America/New_York:20171030T210000
DTSTAMP:20260419T111519
CREATED:20170802T184309Z
LAST-MODIFIED:20170802T184309Z
UID:44112-1509390000-1509397200@www.thecatholictelegraph.com
SUMMARY:CCSMV Presentation on Adoption and More at Sts. Peter and Paul (Newport)
DESCRIPTION:Talk four of four; come to all or any. Representatives from Catholic Social Services of the Miami Valley will present information about adoption\, birth parents\, pregnancy counseling\, and more. Seating is limited; reserve a spot by calling (937) 295-2179.
URL:https://www.thecatholictelegraph.com/event/ccsmv-presentation-on-adoption-and-more-at-sts-peter-and-paul-newport
LOCATION:Sts Peter and Paul (Newport)\, 6788 State Route 66\, Newport\, Ohio
GEO:40.2964583;-84.3693015
X-APPLE-STRUCTURED-LOCATION;VALUE=URI;X-ADDRESS=Sts Peter and Paul (Newport) 6788 State Route 66 Newport Ohio;X-APPLE-RADIUS=500;X-TITLE=6788 State Route 66:geo:-84.3693015,40.2964583
END:VEVENT
END:VCALENDAR