BEGIN:VCALENDAR
VERSION:2.0
PRODID:-//Catholic Telegraph - ECPv5.2.1.1//NONSGML v1.0//EN
CALSCALE:GREGORIAN
METHOD:PUBLISH
X-WR-CALNAME:Catholic Telegraph
X-ORIGINAL-URL:https://www.thecatholictelegraph.com
X-WR-CALDESC:Events for Catholic Telegraph
BEGIN:VTIMEZONE
TZID:America/New_York
BEGIN:DAYLIGHT
TZOFFSETFROM:-0500
TZOFFSETTO:-0400
TZNAME:EDT
DTSTART:20170312T070000
END:DAYLIGHT
BEGIN:STANDARD
TZOFFSETFROM:-0400
TZOFFSETTO:-0500
TZNAME:EST
DTSTART:20171105T060000
END:STANDARD
END:VTIMEZONE
BEGIN:VEVENT
DTSTART;TZID=America/New_York:20170720T190000
DTEND;TZID=America/New_York:20170720T210000
DTSTAMP:20260420T125343
CREATED:20170711T190601Z
LAST-MODIFIED:20170711T190601Z
UID:43577-1500577200-1500584400@www.thecatholictelegraph.com
SUMMARY:Chris Cole Concert at the Cathedral
DESCRIPTION:Baton Rouge-based singer-songwriter and recording artist Chris Cole will present a concert of songs and stories for all ages at the St. Peter in Chains Cathedral Synod Hall. Classic country\, blues\, soul\, and pop-rock influence his unique brand of music — as does his faith. After recording his 2015 album “Full and By\,” he spent 30 days walking the Camino de Santiago in Spain… ukulele in hand. Bring a six-pack of your favorite brew to share and enjoy this first concert of the Office for Young Adult Evangelization and Discipleship  Concert Series. Doors open at 7 pm and concert begins shortly after; suggested contribution $5.
URL:https://www.thecatholictelegraph.com/event/chris-cole-concert-at-the-cathedral
LOCATION:Cathedral of St. Peter in Chains\, 325 W. Eighth Street\, Cincinnati\, OH\, 45202\, United States
GEO:39.103518;-84.5195591
X-APPLE-STRUCTURED-LOCATION;VALUE=URI;X-ADDRESS=Cathedral of St. Peter in Chains 325 W. Eighth Street Cincinnati OH 45202 United States;X-APPLE-RADIUS=500;X-TITLE=325 W. Eighth Street:geo:-84.5195591,39.103518
END:VEVENT
END:VCALENDAR