BEGIN:VCALENDAR
VERSION:2.0
PRODID:-//Catholic Telegraph - ECPv5.2.1.1//NONSGML v1.0//EN
CALSCALE:GREGORIAN
METHOD:PUBLISH
X-WR-CALNAME:Catholic Telegraph
X-ORIGINAL-URL:https://www.thecatholictelegraph.com
X-WR-CALDESC:Events for Catholic Telegraph
BEGIN:VTIMEZONE
TZID:America/New_York
BEGIN:DAYLIGHT
TZOFFSETFROM:-0500
TZOFFSETTO:-0400
TZNAME:EDT
DTSTART:20170312T070000
END:DAYLIGHT
BEGIN:STANDARD
TZOFFSETFROM:-0400
TZOFFSETTO:-0500
TZNAME:EST
DTSTART:20171105T060000
END:STANDARD
END:VTIMEZONE
BEGIN:VEVENT
DTSTART;TZID=America/New_York:20170909T120000
DTEND;TZID=America/New_York:20170909T120000
DTSTAMP:20260421T052749
CREATED:20170809T191520Z
LAST-MODIFIED:20170809T191644Z
UID:44344-1504958400-1504958400@www.thecatholictelegraph.com
SUMMARY:Cincinnati Hispanic Festival Begins
DESCRIPTION:Sept. 9-10. Sponsored by Catholic Hispanic Ministries of the Archdiocese of Cincinnati. Authentic Latin American food from Mexico\, Central America and South America\, food and music\, more. \nFor more see our Festival Guide: http://www.thecatholictelegraph.com/festivals
URL:https://www.thecatholictelegraph.com/event/cincinnati-hispanic-festival-begins
LOCATION:Hamilton County Fairground\,  7801 Anthony Wayne Ave.\, Cincinnati\, Ohio \, 45216
END:VEVENT
END:VCALENDAR