BEGIN:VCALENDAR
VERSION:2.0
PRODID:-//Catholic Telegraph - ECPv5.2.1.1//NONSGML v1.0//EN
CALSCALE:GREGORIAN
METHOD:PUBLISH
X-WR-CALNAME:Catholic Telegraph
X-ORIGINAL-URL:https://www.thecatholictelegraph.com
X-WR-CALDESC:Events for Catholic Telegraph
BEGIN:VTIMEZONE
TZID:America/New_York
BEGIN:DAYLIGHT
TZOFFSETFROM:-0500
TZOFFSETTO:-0400
TZNAME:EDT
DTSTART:20170312T070000
END:DAYLIGHT
BEGIN:STANDARD
TZOFFSETFROM:-0400
TZOFFSETTO:-0500
TZNAME:EST
DTSTART:20171105T060000
END:STANDARD
END:VTIMEZONE
BEGIN:VEVENT
DTSTART;TZID=America/New_York:20170513T090000
DTEND;TZID=America/New_York:20170513T140000
DTSTAMP:20260420T071551
CREATED:20170426T183521Z
LAST-MODIFIED:20170426T183521Z
UID:41484-1494666000-1494684000@www.thecatholictelegraph.com
SUMMARY:Color Run 5K in Blue Ash
DESCRIPTION:St. Nicholas Academy invites all to its 2nd Annual 5K Color Run. Walk\, jog\, and run while raising funds for the school. \nThe My School Color Run is an untimed fun run featuring a certified 5K course. Throughout the course\, participants will experience color splash zones where they’ll be doused in color. All ages welcome; the color run is open to EVERYONE in the community. \n\nSt. Nicholas Academy will keep 100% of all donations and sponsorships received. Registration is $15 before April 28 (t-shirts included but guaranteed only for those who pre-register by that date). On-site registration begins at 9 am; race begins at 10 am.
URL:https://www.thecatholictelegraph.com/event/color-run-5k-in-blue-ash
LOCATION:Summit Park\, 4335 Glendale Milford Road\, Blue Ash\, Ohio\, 45242
GEO:39.2517595;-84.3882052
X-APPLE-STRUCTURED-LOCATION;VALUE=URI;X-ADDRESS=Summit Park 4335 Glendale Milford Road Blue Ash Ohio 45242;X-APPLE-RADIUS=500;X-TITLE=4335 Glendale Milford Road:geo:-84.3882052,39.2517595
END:VEVENT
END:VCALENDAR