BEGIN:VCALENDAR
VERSION:2.0
PRODID:-//Catholic Telegraph - ECPv5.2.1.1//NONSGML v1.0//EN
CALSCALE:GREGORIAN
METHOD:PUBLISH
X-WR-CALNAME:Catholic Telegraph
X-ORIGINAL-URL:https://www.thecatholictelegraph.com
X-WR-CALDESC:Events for Catholic Telegraph
BEGIN:VTIMEZONE
TZID:America/New_York
BEGIN:DAYLIGHT
TZOFFSETFROM:-0500
TZOFFSETTO:-0400
TZNAME:EDT
DTSTART:20180311T070000
END:DAYLIGHT
BEGIN:STANDARD
TZOFFSETFROM:-0400
TZOFFSETTO:-0500
TZNAME:EST
DTSTART:20181104T060000
END:STANDARD
END:VTIMEZONE
BEGIN:VEVENT
DTSTART;TZID=America/New_York:20181109T190000
DTEND;TZID=America/New_York:20181109T210000
DTSTAMP:20260420T001842
CREATED:20180725T152907Z
LAST-MODIFIED:20180725T152907Z
UID:52974-1541790000-1541797200@www.thecatholictelegraph.com
SUMMARY:Concert Honoring Veterans at St. Andrew (Milford)
DESCRIPTION:“It’s a Grand Old Flag” will honor all veterans. Featuring the Basilica Chor from the National Shrine of Mary\, Queen of the Universe (Orland) and the choirs of St. Andrew and St. Elizabeth Ann Seton\, as well as the SASEAS Blue Ribbon School Choir\, the event is free but seats must be reserved. Suzanne Bona\, host and executive producer of WGUC’s “Sunday Baroque\,” radio program\, will act as M.C.  See link to request tickets.
URL:https://www.thecatholictelegraph.com/event/concert-honoring-veterans-at-st-andrew-milford
LOCATION:St. Andrew the Apostle (Milford)\, 551 Main St.\, Milford\, Ohio\, 45150
GEO:39.1763922;-84.2903264
X-APPLE-STRUCTURED-LOCATION;VALUE=URI;X-ADDRESS=St. Andrew the Apostle (Milford) 551 Main St. Milford Ohio 45150;X-APPLE-RADIUS=500;X-TITLE=551 Main St.:geo:-84.2903264,39.1763922
END:VEVENT
END:VCALENDAR