BEGIN:VCALENDAR
VERSION:2.0
PRODID:-//Catholic Telegraph - ECPv5.2.1.1//NONSGML v1.0//EN
CALSCALE:GREGORIAN
METHOD:PUBLISH
X-WR-CALNAME:Catholic Telegraph
X-ORIGINAL-URL:https://www.thecatholictelegraph.com
X-WR-CALDESC:Events for Catholic Telegraph
BEGIN:VTIMEZONE
TZID:America/New_York
BEGIN:DAYLIGHT
TZOFFSETFROM:-0500
TZOFFSETTO:-0400
TZNAME:EDT
DTSTART:20170312T070000
END:DAYLIGHT
BEGIN:STANDARD
TZOFFSETFROM:-0400
TZOFFSETTO:-0500
TZNAME:EST
DTSTART:20171105T060000
END:STANDARD
END:VTIMEZONE
BEGIN:VEVENT
DTSTART;TZID=America/New_York:20170618T110000
DTEND;TZID=America/New_York:20170618T130000
DTSTAMP:20260422T064835
CREATED:20170606T142411Z
LAST-MODIFIED:20170606T142411Z
UID:41963-1497783600-1497790800@www.thecatholictelegraph.com
SUMMARY:Corpus Christi Procession at Holy Trinity (Norwood)
DESCRIPTION:All are invited to participate in Holy Trinity’s fourth annual Corpus Christi procession. The procession will begin after the 11 am Mass; an ice cream social will follow.
URL:https://www.thecatholictelegraph.com/event/corpus-christi-procession-at-holy-trinity-norwood
LOCATION:Holy Trinity Church (Norwood)\, 2420 Drex Avenue\, Norwood\, Ohio\, 45212
GEO:39.1713293;-84.4471354
X-APPLE-STRUCTURED-LOCATION;VALUE=URI;X-ADDRESS=Holy Trinity Church (Norwood) 2420 Drex Avenue Norwood Ohio 45212;X-APPLE-RADIUS=500;X-TITLE=2420 Drex Avenue:geo:-84.4471354,39.1713293
END:VEVENT
END:VCALENDAR