BEGIN:VCALENDAR
VERSION:2.0
PRODID:-//Catholic Telegraph - ECPv5.2.1.1//NONSGML v1.0//EN
CALSCALE:GREGORIAN
METHOD:PUBLISH
X-WR-CALNAME:Catholic Telegraph
X-ORIGINAL-URL:https://www.thecatholictelegraph.com
X-WR-CALDESC:Events for Catholic Telegraph
BEGIN:VTIMEZONE
TZID:America/New_York
BEGIN:DAYLIGHT
TZOFFSETFROM:-0500
TZOFFSETTO:-0400
TZNAME:EDT
DTSTART:20260308T070000
END:DAYLIGHT
BEGIN:STANDARD
TZOFFSETFROM:-0400
TZOFFSETTO:-0500
TZNAME:EST
DTSTART:20261101T060000
END:STANDARD
END:VTIMEZONE
BEGIN:VEVENT
DTSTART;TZID=America/New_York:20260318T080000
DTEND;TZID=America/New_York:20260318T120000
DTSTAMP:20260422T023528
CREATED:20260307T215645Z
LAST-MODIFIED:20260307T215645Z
UID:105461-1773820800-1773835200@www.thecatholictelegraph.com
SUMMARY:Days of Grace at St. Henry in Saint Henry OH
DESCRIPTION:Saint Henry Family of Parishes\nDay of Grace at St. Henry\, 272 E. Main St. St. Henry\, Ohio 45883\nWednesday\, March 18\n8:00 a.m. – Noon
URL:https://www.thecatholictelegraph.com/event/days-of-grace-at-st-henry-in-saint-henry-oh
LOCATION:St. Henry Church (St. Henry)\, 272 East Main Street \, St. Henry\, OH\, 45883
ATTACH;FMTTYPE=image/jpeg:https://www.thecatholictelegraph.com/wp-content/uploads/2025/03/6566431908a8cd67877d919a_6-tips-to-get-over-your-fear-of-confession-2-scaled-1.jpg
GEO:40.4177328;-84.637188
X-APPLE-STRUCTURED-LOCATION;VALUE=URI;X-ADDRESS=St. Henry Church (St. Henry) 272 East Main Street  St. Henry OH 45883;X-APPLE-RADIUS=500;X-TITLE=272 East Main Street:geo:-84.637188,40.4177328
END:VEVENT
END:VCALENDAR