BEGIN:VCALENDAR
VERSION:2.0
PRODID:-//Catholic Telegraph - ECPv5.2.1.1//NONSGML v1.0//EN
CALSCALE:GREGORIAN
METHOD:PUBLISH
X-WR-CALNAME:Catholic Telegraph
X-ORIGINAL-URL:https://www.thecatholictelegraph.com
X-WR-CALDESC:Events for Catholic Telegraph
BEGIN:VTIMEZONE
TZID:America/New_York
BEGIN:DAYLIGHT
TZOFFSETFROM:-0500
TZOFFSETTO:-0400
TZNAME:EDT
DTSTART:20260308T070000
END:DAYLIGHT
BEGIN:STANDARD
TZOFFSETFROM:-0400
TZOFFSETTO:-0500
TZNAME:EST
DTSTART:20261101T060000
END:STANDARD
END:VTIMEZONE
BEGIN:VEVENT
DTSTART;TZID=America/New_York:20260412T130000
DTEND;TZID=America/New_York:20260412T160000
DTSTAMP:20260421T102826
CREATED:20260408T162003Z
LAST-MODIFIED:20260408T162003Z
UID:106528-1775998800-1776009600@www.thecatholictelegraph.com
SUMMARY:Divine Mercy at St Louis North Star
DESCRIPTION:NW5 Family of Parishes\nSt Louis North Star\, 15 E. Star Road\, North Star\, Ohio\nConfessions 1:00 p.m. – 4:00 p.m.\nExposition of the Blessed Sacrament at 1:00 p.m.\nDivine Mercy Holy Hour 3:00 p.m. – 4:00 p.m.
URL:https://www.thecatholictelegraph.com/event/divine-mercy-at-st-louis-north-star
LOCATION:St. Louis (North Star)\, 15 E Star Rd.\, Rossburg\, OH\, 45362\, United States
ATTACH;FMTTYPE=image/jpeg:https://www.thecatholictelegraph.com/wp-content/uploads/2018/03/divine-mercy-crop.jpg
GEO:39.1242071;-84.1355398
X-APPLE-STRUCTURED-LOCATION;VALUE=URI;X-ADDRESS=St. Louis (North Star) 15 E Star Rd. Rossburg OH 45362 United States;X-APPLE-RADIUS=500;X-TITLE=15 E Star Rd.:geo:-84.1355398,39.1242071
END:VEVENT
END:VCALENDAR