BEGIN:VCALENDAR
VERSION:2.0
PRODID:-//Catholic Telegraph - ECPv5.2.1.1//NONSGML v1.0//EN
CALSCALE:GREGORIAN
METHOD:PUBLISH
X-WR-CALNAME:Catholic Telegraph
X-ORIGINAL-URL:https://www.thecatholictelegraph.com
X-WR-CALDESC:Events for Catholic Telegraph
BEGIN:VTIMEZONE
TZID:America/New_York
BEGIN:DAYLIGHT
TZOFFSETFROM:-0500
TZOFFSETTO:-0400
TZNAME:EDT
DTSTART:20170312T070000
END:DAYLIGHT
BEGIN:STANDARD
TZOFFSETFROM:-0400
TZOFFSETTO:-0500
TZNAME:EST
DTSTART:20171105T060000
END:STANDARD
END:VTIMEZONE
BEGIN:VEVENT
DTSTART;TZID=America/New_York:20170423T123000
DTEND;TZID=America/New_York:20170423T153000
DTSTAMP:20260421T083941
CREATED:20170403T153737Z
LAST-MODIFIED:20170403T153737Z
UID:40792-1492950600-1492961400@www.thecatholictelegraph.com
SUMMARY:Divine Mercy Sunday at Emmanuel Church (Dayton)
DESCRIPTION:Confession and Adoration of the Blessed Sacrament begins at 12:30; Mass at 2; Chaplet of Divine Mercy at 3. All welcome to this afternoon of prayer.
URL:https://www.thecatholictelegraph.com/event/divine-mercy-sunday-at-emmanuel-church-dayton
LOCATION:Emmanuel Church\, 149 Franklin Street\, Dayton\, OH\, 45402\, United States
GEO:39.7533573;-84.1935962
X-APPLE-STRUCTURED-LOCATION;VALUE=URI;X-ADDRESS=Emmanuel Church 149 Franklin Street Dayton OH 45402 United States;X-APPLE-RADIUS=500;X-TITLE=149 Franklin Street:geo:-84.1935962,39.7533573
END:VEVENT
END:VCALENDAR