BEGIN:VCALENDAR
VERSION:2.0
PRODID:-//Catholic Telegraph - ECPv5.2.1.1//NONSGML v1.0//EN
CALSCALE:GREGORIAN
METHOD:PUBLISH
X-WR-CALNAME:Catholic Telegraph
X-ORIGINAL-URL:https://www.thecatholictelegraph.com
X-WR-CALDESC:Events for Catholic Telegraph
BEGIN:VTIMEZONE
TZID:America/New_York
BEGIN:DAYLIGHT
TZOFFSETFROM:-0500
TZOFFSETTO:-0400
TZNAME:EDT
DTSTART:20260308T070000
END:DAYLIGHT
BEGIN:STANDARD
TZOFFSETFROM:-0400
TZOFFSETTO:-0500
TZNAME:EST
DTSTART:20261101T060000
END:STANDARD
END:VTIMEZONE
BEGIN:VEVENT
DTSTART;TZID=America/New_York:20260412T134500
DTEND;TZID=America/New_York:20260412T160000
DTSTAMP:20260421T120424
CREATED:20260409T164413Z
LAST-MODIFIED:20260409T164413Z
UID:106546-1776001500-1776009600@www.thecatholictelegraph.com
SUMMARY:Divine Mercy Sunday at St Bernard Taylor Creek
DESCRIPTION:Mary Queen of Heaven Family of Parishes\nSt. Bernard Taylor Creek\, 7130 Harrison Ave.\, Cincinnati 45245\nConfessions will be heard from 1:45 p.m.—2:45 p.m.\nDivine Mercy Holy Hours 3:00 p.m. – 4:00 p.m.
URL:https://www.thecatholictelegraph.com/event/divine-mercy-sunday-at-st-bernard-taylor-creek
LOCATION:St. Bernard of Clairvaux (Taylor’s Creek)\, 7130 Harrison Road\, Cincinnati\, OH\, 45247-3372\, United States
ATTACH;FMTTYPE=image/jpeg:https://www.thecatholictelegraph.com/wp-content/uploads/2026/04/ShutterstockBasic_637143067-1-scaled.jpg
GEO:39.2137044;-84.6753152
X-APPLE-STRUCTURED-LOCATION;VALUE=URI;X-ADDRESS=St. Bernard of Clairvaux (Taylor’s Creek) 7130 Harrison Road Cincinnati OH 45247-3372 United States;X-APPLE-RADIUS=500;X-TITLE=7130 Harrison Road:geo:-84.6753152,39.2137044
END:VEVENT
END:VCALENDAR