BEGIN:VCALENDAR
VERSION:2.0
PRODID:-//Catholic Telegraph - ECPv5.2.1.1//NONSGML v1.0//EN
CALSCALE:GREGORIAN
METHOD:PUBLISH
X-WR-CALNAME:Catholic Telegraph
X-ORIGINAL-URL:https://www.thecatholictelegraph.com
X-WR-CALDESC:Events for Catholic Telegraph
BEGIN:VTIMEZONE
TZID:America/New_York
BEGIN:DAYLIGHT
TZOFFSETFROM:-0500
TZOFFSETTO:-0400
TZNAME:EDT
DTSTART:20170312T070000
END:DAYLIGHT
BEGIN:STANDARD
TZOFFSETFROM:-0400
TZOFFSETTO:-0500
TZNAME:EST
DTSTART:20171105T060000
END:STANDARD
END:VTIMEZONE
BEGIN:VEVENT
DTSTART;TZID=America/New_York:20170423T120000
DTEND;TZID=America/New_York:20170423T123000
DTSTAMP:20260421T103544
CREATED:20170412T125715Z
LAST-MODIFIED:20170412T125715Z
UID:40944-1492948800-1492950600@www.thecatholictelegraph.com
SUMMARY:Divine Mercy Sunday at St. Lawrence
DESCRIPTION:Looking for a place to observe Divine Mercy Sunday? The parish will finish its Divine Mercy Novena with Benediction\, Adoration\, and the Chaplet of Divine Mercy following 11 am Mass. The devotion takes about 15 minutes.
URL:https://www.thecatholictelegraph.com/event/divine-mercy-sunday-at-st-lawrence
LOCATION:St. Lawrence Church (Price Hill)\, 3680 Warsaw Avenue\, Cincinnati\, OH\, 45205-1759\, United States
GEO:39.1115262;-84.5728716
X-APPLE-STRUCTURED-LOCATION;VALUE=URI;X-ADDRESS=St. Lawrence Church (Price Hill) 3680 Warsaw Avenue Cincinnati OH 45205-1759 United States;X-APPLE-RADIUS=500;X-TITLE=3680 Warsaw Avenue:geo:-84.5728716,39.1115262
END:VEVENT
END:VCALENDAR