BEGIN:VCALENDAR
VERSION:2.0
PRODID:-//Catholic Telegraph - ECPv5.2.1.1//NONSGML v1.0//EN
CALSCALE:GREGORIAN
METHOD:PUBLISH
X-WR-CALNAME:Catholic Telegraph
X-ORIGINAL-URL:https://www.thecatholictelegraph.com
X-WR-CALDESC:Events for Catholic Telegraph
BEGIN:VTIMEZONE
TZID:America/New_York
BEGIN:DAYLIGHT
TZOFFSETFROM:-0500
TZOFFSETTO:-0400
TZNAME:EDT
DTSTART:20170312T070000
END:DAYLIGHT
BEGIN:STANDARD
TZOFFSETFROM:-0400
TZOFFSETTO:-0500
TZNAME:EST
DTSTART:20171105T060000
END:STANDARD
END:VTIMEZONE
BEGIN:VEVENT
DTSTART;TZID=America/New_York:20170717T080000
DTEND;TZID=America/New_York:20170717T170000
DTSTAMP:20260425T193655
CREATED:20170612T130913Z
LAST-MODIFIED:20170612T130913Z
UID:42778-1500278400-1500310800@www.thecatholictelegraph.com
SUMMARY:Dominican Come\, See\, Meet Event in New England
DESCRIPTION:The Order of Preachers invites men discerning a vocation to Providence College\, the only college run by the Dominican friars in the USA. Includes vespers/meal with friars and a talk on Dominican Life. Dominican novices for the Province of St. Joseph spend their first year at St. Gertrude Priory and parish in Madeira\, before professing first vows and moving to Washington\, D.C.\, for studies. Contact Fr. Benedict Croell OP\, Vocation Director\, for more details and to RSVP at 202.642.3597 or vocations@dominicanfriars.org. TIMES APPROXIMATE\, see event organizers for details.
URL:https://www.thecatholictelegraph.com/event/dominican-come-see-meet-event-in-new-england
LOCATION:Providence College (Providence\, RI)\, 1 Cunningham Square\, Providence\, RI\, 02918
GEO:41.8440376;-71.4332557
X-APPLE-STRUCTURED-LOCATION;VALUE=URI;X-ADDRESS=Providence College (Providence RI) 1 Cunningham Square Providence RI 02918;X-APPLE-RADIUS=500;X-TITLE=1 Cunningham Square:geo:-71.4332557,41.8440376
END:VEVENT
END:VCALENDAR