BEGIN:VCALENDAR
VERSION:2.0
PRODID:-//Catholic Telegraph - ECPv5.2.1.1//NONSGML v1.0//EN
CALSCALE:GREGORIAN
METHOD:PUBLISH
X-WR-CALNAME:Catholic Telegraph
X-ORIGINAL-URL:https://www.thecatholictelegraph.com
X-WR-CALDESC:Events for Catholic Telegraph
BEGIN:VTIMEZONE
TZID:America/New_York
BEGIN:DAYLIGHT
TZOFFSETFROM:-0500
TZOFFSETTO:-0400
TZNAME:EDT
DTSTART:20170312T070000
END:DAYLIGHT
BEGIN:STANDARD
TZOFFSETFROM:-0400
TZOFFSETTO:-0500
TZNAME:EST
DTSTART:20171105T060000
END:STANDARD
END:VTIMEZONE
BEGIN:VEVENT
DTSTART;TZID=America/New_York:20170810T130000
DTEND;TZID=America/New_York:20170810T220000
DTSTAMP:20260421T105248
CREATED:20170711T130726Z
LAST-MODIFIED:20170711T130726Z
UID:43539-1502370000-1502402400@www.thecatholictelegraph.com
SUMMARY:Dominican Vocations Event at St. Gertrude Priory
DESCRIPTION:Men discerning a vocation to the Order of Preachers (the Dominicans) are invited to a half-day with the Vocations Director and novices. Meet mid-afternoon at St. Gertrude Priory for a tour of church/priory\, vespers\, a meal\, a talk on Dominican life\, and a chance to meet novices and hear their vocation stories. Ends with compline at 9:30 pm in the priory chapel. Start time is approximate and RSVP is required — contact the Vocation Director  at 202.642.3597 or by email at vocations@dominicanfriars.org.
URL:https://www.thecatholictelegraph.com/event/dominican-vocations-event-at-st-gertrude-priory
LOCATION:St. Gertrude Church\, 6543 Miami Ave\, Cincinnati\, OH\, 45243\, United States
GEO:39.1814629;-84.3654076
X-APPLE-STRUCTURED-LOCATION;VALUE=URI;X-ADDRESS=St. Gertrude Church 6543 Miami Ave Cincinnati OH 45243 United States;X-APPLE-RADIUS=500;X-TITLE=6543 Miami Ave:geo:-84.3654076,39.1814629
END:VEVENT
END:VCALENDAR