BEGIN:VCALENDAR
VERSION:2.0
PRODID:-//Catholic Telegraph - ECPv5.2.1.1//NONSGML v1.0//EN
CALSCALE:GREGORIAN
METHOD:PUBLISH
X-WR-CALNAME:Catholic Telegraph
X-ORIGINAL-URL:https://www.thecatholictelegraph.com
X-WR-CALDESC:Events for Catholic Telegraph
BEGIN:VTIMEZONE
TZID:America/New_York
BEGIN:DAYLIGHT
TZOFFSETFROM:-0500
TZOFFSETTO:-0400
TZNAME:EDT
DTSTART:20170312T070000
END:DAYLIGHT
BEGIN:STANDARD
TZOFFSETFROM:-0400
TZOFFSETTO:-0500
TZNAME:EST
DTSTART:20171105T060000
END:STANDARD
END:VTIMEZONE
BEGIN:VEVENT
DTSTART;TZID=America/New_York:20170225T080000
DTEND;TZID=America/New_York:20170225T120000
DTSTAMP:20260419T165138
CREATED:20170207T152937Z
LAST-MODIFIED:20170207T152937Z
UID:38946-1488009600-1488024000@www.thecatholictelegraph.com
SUMMARY:Encountering Mercy\, Day 3 at St. Michael (Ft. Loramie)
DESCRIPTION:Annual Living Christ Retreat sponsored by the Newport & Fort Loramie Pastoral Region. Theme: Encountering Mercy. Breakfast included. \nTo register call Ann at (937) 295-2891.
URL:https://www.thecatholictelegraph.com/event/encountering-mercy-day-3-at-st-michael-ft-loramie
LOCATION:St. Michael Church\, Ft. Loramie\, 33 Elm Street\, Ft. Loramie\, OH\, 45845\, United States
GEO:40.3511954;-84.3716569
X-APPLE-STRUCTURED-LOCATION;VALUE=URI;X-ADDRESS=St. Michael Church Ft. Loramie 33 Elm Street Ft. Loramie OH 45845 United States;X-APPLE-RADIUS=500;X-TITLE=33 Elm Street:geo:-84.3716569,40.3511954
END:VEVENT
END:VCALENDAR