BEGIN:VCALENDAR
VERSION:2.0
PRODID:-//Catholic Telegraph - ECPv5.2.1.1//NONSGML v1.0//EN
CALSCALE:GREGORIAN
METHOD:PUBLISH
X-WR-CALNAME:Catholic Telegraph
X-ORIGINAL-URL:https://www.thecatholictelegraph.com
X-WR-CALDESC:Events for Catholic Telegraph
BEGIN:VTIMEZONE
TZID:America/New_York
BEGIN:DAYLIGHT
TZOFFSETFROM:-0500
TZOFFSETTO:-0400
TZNAME:EDT
DTSTART:20180311T070000
END:DAYLIGHT
BEGIN:STANDARD
TZOFFSETFROM:-0400
TZOFFSETTO:-0500
TZNAME:EST
DTSTART:20181104T060000
END:STANDARD
END:VTIMEZONE
BEGIN:VEVENT
DTSTART;TZID=America/New_York:20181108T190000
DTEND;TZID=America/New_York:20181108T210000
DTSTAMP:20260420T020408
CREATED:20180830T201440Z
LAST-MODIFIED:20180830T201440Z
UID:53803-1541703600-1541710800@www.thecatholictelegraph.com
SUMMARY:Evening of Reflection for EMHCs in Carthagena
DESCRIPTION:Father Ryan Ruiz will lead this evening of reflection for Extraordinary Ministers of Holy Communion sponsored by the Office of Divine Worship and Sacraments.
URL:https://www.thecatholictelegraph.com/event/evening-of-reflection-for-emhcs-in-carthagena
LOCATION:St. Mary Deanery Chapel\, Carthegena
END:VEVENT
END:VCALENDAR