BEGIN:VCALENDAR
VERSION:2.0
PRODID:-//Catholic Telegraph - ECPv5.2.1.1//NONSGML v1.0//EN
CALSCALE:GREGORIAN
METHOD:PUBLISH
X-WR-CALNAME:Catholic Telegraph
X-ORIGINAL-URL:https://www.thecatholictelegraph.com
X-WR-CALDESC:Events for Catholic Telegraph
BEGIN:VTIMEZONE
TZID:America/New_York
BEGIN:DAYLIGHT
TZOFFSETFROM:-0500
TZOFFSETTO:-0400
TZNAME:EDT
DTSTART:20170312T070000
END:DAYLIGHT
BEGIN:STANDARD
TZOFFSETFROM:-0400
TZOFFSETTO:-0500
TZNAME:EST
DTSTART:20171105T060000
END:STANDARD
END:VTIMEZONE
BEGIN:VEVENT
DTSTART;TZID=America/New_York:20170916T190000
DTEND;TZID=America/New_York:20170916T210000
DTSTAMP:20260422T135916
CREATED:20170906T124624Z
LAST-MODIFIED:20170906T124651Z
UID:44882-1505588400-1505595600@www.thecatholictelegraph.com
SUMMARY:Faith Night at FC Cincinnati Game
DESCRIPTION:Discounts available for church and youth groups. FC Cincinnati\, the city’s professional soccer team (USL League) plays the New York Red Bulls in its last home game of the year — also Oktoberfest night. Group pricing starts at $5.
URL:https://www.thecatholictelegraph.com/event/faith-night-at-fc-cincinnati-game
LOCATION:Nippert Stadium (Clifton)\, 2700 Bearcat Wa\, Cincinnati\, OH\, 45221
GEO:39.1311483;-84.5162257
X-APPLE-STRUCTURED-LOCATION;VALUE=URI;X-ADDRESS=Nippert Stadium (Clifton) 2700 Bearcat Wa Cincinnati OH 45221;X-APPLE-RADIUS=500;X-TITLE=2700 Bearcat Wa:geo:-84.5162257,39.1311483
END:VEVENT
END:VCALENDAR