BEGIN:VCALENDAR
VERSION:2.0
PRODID:-//Catholic Telegraph - ECPv5.2.1.1//NONSGML v1.0//EN
CALSCALE:GREGORIAN
METHOD:PUBLISH
X-WR-CALNAME:Catholic Telegraph
X-ORIGINAL-URL:https://www.thecatholictelegraph.com
X-WR-CALDESC:Events for Catholic Telegraph
BEGIN:VTIMEZONE
TZID:America/New_York
BEGIN:DAYLIGHT
TZOFFSETFROM:-0500
TZOFFSETTO:-0400
TZNAME:EDT
DTSTART:20170312T070000
END:DAYLIGHT
BEGIN:STANDARD
TZOFFSETFROM:-0400
TZOFFSETTO:-0500
TZNAME:EST
DTSTART:20171105T060000
END:STANDARD
END:VTIMEZONE
BEGIN:VEVENT
DTSTART;TZID=America/New_York:20170513T093000
DTEND;TZID=America/New_York:20170513T103000
DTSTAMP:20260421T082848
CREATED:20170501T174805Z
LAST-MODIFIED:20170501T174805Z
UID:41616-1494667800-1494671400@www.thecatholictelegraph.com
SUMMARY:Fatima Rosary Rally at St. Cecilia Church
DESCRIPTION:Sponsored by America Needs Fatima\, this will be one of thousands of public rosary rallies taking place across the United States on May 13. Held on the front steps of the church; all welcome.
URL:https://www.thecatholictelegraph.com/event/fatima-rosary-rally-at-st-cecilia-church
LOCATION:St. Cecilia Parish\, Oakley\, 3105 Madison Rd\, Cincinnati\, OH\, 45209-1392\, United States
GEO:39.1527155;-84.4298934
X-APPLE-STRUCTURED-LOCATION;VALUE=URI;X-ADDRESS=St. Cecilia Parish Oakley 3105 Madison Rd Cincinnati OH 45209-1392 United States;X-APPLE-RADIUS=500;X-TITLE=3105 Madison Rd:geo:-84.4298934,39.1527155
END:VEVENT
END:VCALENDAR