BEGIN:VCALENDAR
VERSION:2.0
PRODID:-//Catholic Telegraph - ECPv5.2.1.1//NONSGML v1.0//EN
CALSCALE:GREGORIAN
METHOD:PUBLISH
X-WR-CALNAME:Catholic Telegraph
X-ORIGINAL-URL:https://www.thecatholictelegraph.com
X-WR-CALDESC:Events for Catholic Telegraph
BEGIN:VTIMEZONE
TZID:America/New_York
BEGIN:DAYLIGHT
TZOFFSETFROM:-0500
TZOFFSETTO:-0400
TZNAME:EDT
DTSTART:20180311T070000
END:DAYLIGHT
BEGIN:STANDARD
TZOFFSETFROM:-0400
TZOFFSETTO:-0500
TZNAME:EST
DTSTART:20181104T060000
END:STANDARD
END:VTIMEZONE
BEGIN:VEVENT
DTSTART;TZID=America/New_York:20180929T090000
DTEND;TZID=America/New_York:20180929T120000
DTSTAMP:20260420T125415
CREATED:20180621T173629Z
LAST-MODIFIED:20180621T174020Z
UID:52197-1538211600-1538222400@www.thecatholictelegraph.com
SUMMARY:"Find Your Greatness" Dynamic Catholic Workshop at Queen of Peace (Hamilton)
DESCRIPTION:Dynamic Catholic’s Dominick Albano will lead this half-day event based on Matthew Kelley’s book “Four Signs of a Dynamic Catholic.” He will teach you four good habits to ignite your faith\, maybe you happier\, and help lead to an ever-more-engaged parish community. Ticket price includes a book and other materials; day includes music and light refreshments. For information call the parish at 513-863-4344; for tickets visit https://dynamiccatholic.com/find-your-greatness-hamilton-oh-sep-29-2018.
URL:https://www.thecatholictelegraph.com/event/find-your-greatness-dynamic-catholic-workshop-at-queen-of-peace-hamilton
LOCATION:Queen of Peace (Hamilton)\, 2550 Millville Ave\, Hamilton\, OH\, 45013-4212\, United States
GEO:39.3946355;-84.6443601
X-APPLE-STRUCTURED-LOCATION;VALUE=URI;X-ADDRESS=Queen of Peace (Hamilton) 2550 Millville Ave Hamilton OH 45013-4212 United States;X-APPLE-RADIUS=500;X-TITLE=2550 Millville Ave:geo:-84.6443601,39.3946355
END:VEVENT
END:VCALENDAR