BEGIN:VCALENDAR
VERSION:2.0
PRODID:-//Catholic Telegraph - ECPv5.2.1.1//NONSGML v1.0//EN
CALSCALE:GREGORIAN
METHOD:PUBLISH
X-WR-CALNAME:Catholic Telegraph
X-ORIGINAL-URL:https://www.thecatholictelegraph.com
X-WR-CALDESC:Events for Catholic Telegraph
BEGIN:VTIMEZONE
TZID:America/New_York
BEGIN:DAYLIGHT
TZOFFSETFROM:-0500
TZOFFSETTO:-0400
TZNAME:EDT
DTSTART:20180311T070000
END:DAYLIGHT
BEGIN:STANDARD
TZOFFSETFROM:-0400
TZOFFSETTO:-0500
TZNAME:EST
DTSTART:20181104T060000
END:STANDARD
END:VTIMEZONE
BEGIN:VEVENT
DTSTART;TZID=America/New_York:20180929T100000
DTEND;TZID=America/New_York:20180929T130000
DTSTAMP:20260420T144657
CREATED:20180705T162904Z
LAST-MODIFIED:20180705T162904Z
UID:52567-1538215200-1538226000@www.thecatholictelegraph.com
SUMMARY:Friends of the Poor 5K Walk/Run in Springfield
DESCRIPTION:One of many Friends of the Poor Walk held by the Society of St. Vincent de Paul around the country\, this annual race benefits the Springfield SVdP’s community Christmas basket distribution in Clark County. Enter the park either off N. Plum Street or North Street; barriers to Shelter 4 will be up by 9:30. Register online at link.
URL:https://www.thecatholictelegraph.com/event/friends-of-the-poor-5k-walkrun-in-springfield
LOCATION:Snyder Park\, Snyder St.\, Springfield\, Ohio\, 45504
GEO:39.929867;-83.841149
X-APPLE-STRUCTURED-LOCATION;VALUE=URI;X-ADDRESS=Snyder Park Snyder St. Springfield Ohio 45504;X-APPLE-RADIUS=500;X-TITLE=Snyder St.:geo:-83.841149,39.929867
END:VEVENT
END:VCALENDAR