BEGIN:VCALENDAR
VERSION:2.0
PRODID:-//Catholic Telegraph - ECPv5.2.1.1//NONSGML v1.0//EN
CALSCALE:GREGORIAN
METHOD:PUBLISH
X-WR-CALNAME:Catholic Telegraph
X-ORIGINAL-URL:https://www.thecatholictelegraph.com
X-WR-CALDESC:Events for Catholic Telegraph
BEGIN:VTIMEZONE
TZID:America/New_York
BEGIN:DAYLIGHT
TZOFFSETFROM:-0500
TZOFFSETTO:-0400
TZNAME:EDT
DTSTART:20230312T070000
END:DAYLIGHT
BEGIN:STANDARD
TZOFFSETFROM:-0400
TZOFFSETTO:-0500
TZNAME:EST
DTSTART:20231105T060000
END:STANDARD
END:VTIMEZONE
BEGIN:VEVENT
DTSTART;VALUE=DATE:20231104
DTEND;VALUE=DATE:20231105
DTSTAMP:20260419T093817
CREATED:20231103T131341Z
LAST-MODIFIED:20231103T131341Z
UID:94012-1699056000-1699142399@www.thecatholictelegraph.com
SUMMARY:GET OUT THE VOTE!
DESCRIPTION:Saturday November 4 \nGET OUT THE VOTE! \nWe still have time to reach undecided voters!  \nThere are many! \nJoin us door-knocking Saturday-register through QR code.  \nemail or call our office 513-721-7870
URL:https://www.thecatholictelegraph.com/event/get-out-the-vote
ATTACH;FMTTYPE=image/jpeg:https://www.thecatholictelegraph.com/wp-content/uploads/2023/08/shutterstock-2198454999.jpg
END:VEVENT
END:VCALENDAR