BEGIN:VCALENDAR
VERSION:2.0
PRODID:-//Catholic Telegraph - ECPv5.2.1.1//NONSGML v1.0//EN
CALSCALE:GREGORIAN
METHOD:PUBLISH
X-WR-CALNAME:Catholic Telegraph
X-ORIGINAL-URL:https://www.thecatholictelegraph.com
X-WR-CALDESC:Events for Catholic Telegraph
BEGIN:VTIMEZONE
TZID:America/New_York
BEGIN:DAYLIGHT
TZOFFSETFROM:-0500
TZOFFSETTO:-0400
TZNAME:EDT
DTSTART:20170312T070000
END:DAYLIGHT
BEGIN:STANDARD
TZOFFSETFROM:-0400
TZOFFSETTO:-0500
TZNAME:EST
DTSTART:20171105T060000
END:STANDARD
END:VTIMEZONE
BEGIN:VEVENT
DTSTART;TZID=America/New_York:20170317T180000
DTEND;TZID=America/New_York:20170318T153000
DTSTAMP:20260422T032238
CREATED:20170207T142731Z
LAST-MODIFIED:20170207T142731Z
UID:38935-1489773600-1489851000@www.thecatholictelegraph.com
SUMMARY:Girls' Lenten Retreat with St. Therese at Old St. Mary's Begins
DESCRIPTION:March 17-18.  “I don’t want to be a saint by halves! My God\, I choose ALL!” Girls ages 10-13 from all parishes are invited to journey with Therese as she seeks and finds the God of Love. Mass\, Adoration\, activities\, more. Bring a Bible and a sleeping bag!\nFor more information email filia.sancti.eliae@gmail.com or call the parish at 513-721-2988\, ext. 134.
URL:https://www.thecatholictelegraph.com/event/girls-lenten-retreat-with-st-therese-at-old-st-marys-begins
LOCATION:Old St. Mary Church\, 123E 13th Street\, Cincinnati\, OH\, 45202\, United States
GEO:39.1095086;-84.5123561
X-APPLE-STRUCTURED-LOCATION;VALUE=URI;X-ADDRESS=Old St. Mary Church 123E 13th Street Cincinnati OH 45202 United States;X-APPLE-RADIUS=500;X-TITLE=123E 13th Street:geo:-84.5123561,39.1095086
END:VEVENT
END:VCALENDAR