BEGIN:VCALENDAR
VERSION:2.0
PRODID:-//Catholic Telegraph - ECPv5.2.1.1//NONSGML v1.0//EN
CALSCALE:GREGORIAN
METHOD:PUBLISH
X-WR-CALNAME:Catholic Telegraph
X-ORIGINAL-URL:https://www.thecatholictelegraph.com
X-WR-CALDESC:Events for Catholic Telegraph
BEGIN:VTIMEZONE
TZID:America/New_York
BEGIN:DAYLIGHT
TZOFFSETFROM:-0500
TZOFFSETTO:-0400
TZNAME:EDT
DTSTART:20170312T070000
END:DAYLIGHT
BEGIN:STANDARD
TZOFFSETFROM:-0400
TZOFFSETTO:-0500
TZNAME:EST
DTSTART:20171105T060000
END:STANDARD
END:VTIMEZONE
BEGIN:VEVENT
DTSTART;TZID=America/New_York:20171203T140000
DTEND;TZID=America/New_York:20171203T150000
DTSTAMP:20260422T014603
CREATED:20171121T162135Z
LAST-MODIFIED:20171121T162135Z
UID:46766-1512309600-1512313200@www.thecatholictelegraph.com
SUMMARY:Glenmary Christmas Concert with the Cinti Brass at St. John Neumann
DESCRIPTION:Annual Christmas Concert for Glenmary featuring the Cincinnati Brass Band. Enjoy the sounds of Christmas and learn more about Glenmary’s work as a Catholic society of missionary priests and brothers serving in the United States. Glenmary president Father Chet Artysiewicz will speak briefly. For more information\, contact Rachel Thome at (513) 881-7440
URL:https://www.thecatholictelegraph.com/event/glenmary-christmas-concert-with-the-cinti-brass-at-st-john-neumann
LOCATION:St. John Neumann Church\, 12191 Mill Rd\, Cincinnati\, OH\, 45240\, United States
GEO:39.305375;-84.5432854
X-APPLE-STRUCTURED-LOCATION;VALUE=URI;X-ADDRESS=St. John Neumann Church 12191 Mill Rd Cincinnati OH 45240 United States;X-APPLE-RADIUS=500;X-TITLE=12191 Mill Rd:geo:-84.5432854,39.305375
END:VEVENT
END:VCALENDAR