BEGIN:VCALENDAR
VERSION:2.0
PRODID:-//Catholic Telegraph - ECPv5.2.1.1//NONSGML v1.0//EN
CALSCALE:GREGORIAN
METHOD:PUBLISH
X-WR-CALNAME:Catholic Telegraph
X-ORIGINAL-URL:https://www.thecatholictelegraph.com
X-WR-CALDESC:Events for Catholic Telegraph
BEGIN:VTIMEZONE
TZID:America/New_York
BEGIN:DAYLIGHT
TZOFFSETFROM:-0500
TZOFFSETTO:-0400
TZNAME:EDT
DTSTART:20190310T070000
END:DAYLIGHT
BEGIN:STANDARD
TZOFFSETFROM:-0400
TZOFFSETTO:-0500
TZNAME:EST
DTSTART:20191103T060000
END:STANDARD
END:VTIMEZONE
BEGIN:VEVENT
DTSTART;TZID=America/New_York:20191002T193000
DTEND;TZID=America/New_York:20191002T213000
DTSTAMP:20260419T104852
CREATED:20190905T172428Z
LAST-MODIFIED:20190905T172428Z
UID:59277-1570044600-1570051800@www.thecatholictelegraph.com
SUMMARY:Great Music in a Great Space
DESCRIPTION:What: Great Music in a Great Space\nPerformance: Chanticleer\nWhere: Cathedral of St. Peter in Chains\, Eighth & Plum\, Office Address 325. W Eighth St.\, Cincinnati OH\, 45202\nWhen: Wednesday\, October 2\, 2019 – 7:30 pm \nThe Grammy® award-winning male vocal ensemble\, CHANTICLEER\, will appear in concert on Wednesday\, October 2\, 2019 at 7:30 PM. in Saint Peter in Chains Cathedral\, 8th and Plums Streets\, downtown Cincinnati. The Concert is presented as part of the Cathedral’s “Great Music in a Great Space” concerts. Hailed by the New Yorker magazine as “The world’s reigning male chorus” the Grammy® Award-winning vocal ensemble Chanticleer returns to the cathedral for an all new a cappella program featuring Chanticleer’s lush signature sound. Don’t miss your chance to hear the “orchestra of voices” in the season’s opening concert.
URL:https://www.thecatholictelegraph.com/event/great-music-in-a-great-space
LOCATION:Cathedral of St. Peter in Chains\, 325 W. Eighth Street\, Cincinnati\, OH\, 45202\, United States
GEO:39.103518;-84.5195591
X-APPLE-STRUCTURED-LOCATION;VALUE=URI;X-ADDRESS=Cathedral of St. Peter in Chains 325 W. Eighth Street Cincinnati OH 45202 United States;X-APPLE-RADIUS=500;X-TITLE=325 W. Eighth Street:geo:-84.5195591,39.103518
END:VEVENT
END:VCALENDAR