BEGIN:VCALENDAR
VERSION:2.0
PRODID:-//Catholic Telegraph - ECPv5.2.1.1//NONSGML v1.0//EN
CALSCALE:GREGORIAN
METHOD:PUBLISH
X-WR-CALNAME:Catholic Telegraph
X-ORIGINAL-URL:https://www.thecatholictelegraph.com
X-WR-CALDESC:Events for Catholic Telegraph
BEGIN:VTIMEZONE
TZID:America/New_York
BEGIN:DAYLIGHT
TZOFFSETFROM:-0500
TZOFFSETTO:-0400
TZNAME:EDT
DTSTART:20170312T070000
END:DAYLIGHT
BEGIN:STANDARD
TZOFFSETFROM:-0400
TZOFFSETTO:-0500
TZNAME:EST
DTSTART:20171105T060000
END:STANDARD
END:VTIMEZONE
BEGIN:VEVENT
DTSTART;TZID=America/New_York:20171112T170000
DTEND;TZID=America/New_York:20171112T180000
DTSTAMP:20260425T115639
CREATED:20171107T211247Z
LAST-MODIFIED:20171107T211327Z
UID:46536-1510506000-1510509600@www.thecatholictelegraph.com
SUMMARY:Holy Hour for Vocations at the Seminary
DESCRIPTION:Research shows that prayer plays a critical role in a man’s decision to become a priest. And where you find growing seminaries – you also find steadfast prayer by the faithful. What can YOU do to promote the priesthood? Pray! Come to a Holy Hour for vocations in the Chapel of St. Gregory the Great at Mount St. Mary’s Seminary of the West. Fellowship time with current seminarians follows.
URL:https://www.thecatholictelegraph.com/event/holy-hour-for-vocations-at-the-seminary-2
LOCATION:Athenaeum of Ohio\, 6616 Beechmont Avenue\, Cincinnat\, OH\, 45230\, United States
GEO:39.083756;-84.3729539
X-APPLE-STRUCTURED-LOCATION;VALUE=URI;X-ADDRESS=Athenaeum of Ohio 6616 Beechmont Avenue Cincinnat OH 45230 United States;X-APPLE-RADIUS=500;X-TITLE=6616 Beechmont Avenue:geo:-84.3729539,39.083756
END:VEVENT
END:VCALENDAR